BEGIN:VCALENDAR
VERSION:2.0
PRODID:-//ECU Health - ECPv6.15.20//NONSGML v1.0//EN
CALSCALE:GREGORIAN
METHOD:PUBLISH
X-WR-CALNAME:ECU Health
X-ORIGINAL-URL:https://www.ecuhealth.org
X-WR-CALDESC:Events for ECU Health
REFRESH-INTERVAL;VALUE=DURATION:PT1H
X-Robots-Tag:noindex
X-PUBLISHED-TTL:PT1H
BEGIN:VTIMEZONE
TZID:America/New_York
BEGIN:DAYLIGHT
TZOFFSETFROM:-0500
TZOFFSETTO:-0400
TZNAME:EDT
DTSTART:20240310T070000
END:DAYLIGHT
BEGIN:STANDARD
TZOFFSETFROM:-0400
TZOFFSETTO:-0500
TZNAME:EST
DTSTART:20241103T060000
END:STANDARD
BEGIN:DAYLIGHT
TZOFFSETFROM:-0500
TZOFFSETTO:-0400
TZNAME:EDT
DTSTART:20250309T070000
END:DAYLIGHT
BEGIN:STANDARD
TZOFFSETFROM:-0400
TZOFFSETTO:-0500
TZNAME:EST
DTSTART:20251102T060000
END:STANDARD
BEGIN:DAYLIGHT
TZOFFSETFROM:-0500
TZOFFSETTO:-0400
TZNAME:EDT
DTSTART:20260308T070000
END:DAYLIGHT
BEGIN:STANDARD
TZOFFSETFROM:-0400
TZOFFSETTO:-0500
TZNAME:EST
DTSTART:20261101T060000
END:STANDARD
END:VTIMEZONE
BEGIN:VEVENT
DTSTART;TZID=America/New_York:20251023T100000
DTEND;TZID=America/New_York:20251023T123000
DTSTAMP:20260423T181746
CREATED:20250915T200943Z
LAST-MODIFIED:20250915T200943Z
UID:10009845-1761213600-1761222600@www.ecuhealth.org
SUMMARY:Free Adult Wellness Screenings
DESCRIPTION:[vc_row][vc_column width=”1/2″][vc_column_text css=””]Community Health Programs invites you to a free adult wellness screening. Our health professionals will check your body mass index (BMI)\, blood pressure\, glucose\, and cholesterol levels. Knowing these numbers is key to preventing and managing chronic diseases. Join us to take charge of your health and connect with your community. We look forward to seeing you there![/vc_column_text][/vc_column][vc_column width=”1/2″][vc_single_image image=”4469″ img_size=”full” css=””][/vc_column][/vc_row]
URL:https://www.ecuhealth.org/event/free-adult-wellness-screenings-3/
LOCATION:Reruns Consignment\, 114 W. Quinn St.\, Beulaville\, 28518\, United States
CATEGORIES:Community Health,Wellness
ATTACH;FMTTYPE=image/jpeg:https://www.ecuhealth.org/wp-content/uploads/2021/02/screenings-female-adults.jpg
END:VEVENT
BEGIN:VEVENT
DTSTART;TZID=America/New_York:20251023T100000
DTEND;TZID=America/New_York:20251023T140000
DTSTAMP:20260423T181746
CREATED:20250224T132000Z
LAST-MODIFIED:20250224T132000Z
UID:10009583-1761213600-1761228000@www.ecuhealth.org
SUMMARY:Taking Control of Tomorrow: Advance Care Planning - Wilson
DESCRIPTION:[vc_row][vc_column width=”1/2″][vc_column_text]Do you know who would make medical decisions for you if you do not have a Health Care Power of Attorney Advance Directive? Are your decision makers aware of any health outcomes that are unacceptable to you and are they prepared to represent you? \nJoin us for a FREE session to learn the who\, what\, when\, where\, how\, and most importantly\, the WHY of advance care planning. At ECU Health\, we want to provide care that matches the medical treatment(s) that you choose. We also want the person that guides decisions about your care to make the decisions that you would make. \nLearn more about how to be sure that your voice is heard even when you can’t speak for yourself by completing a legal Health Care Power of Attorney and Living Will Advance Directive. \nTrained staff will be available to answer questions you may have and to assist you with completion of these documents with FREE notary support. Photo ID is required for completion of documents. \nIf you have already completed your Advance Directives and would like to have them scanned into your ECU Health electronic health record\, please feel free to bring your documents to this class for assistance.[/vc_column_text][/vc_column][vc_column width=”1/2″][vc_single_image image=”3691″ img_size=”full” css=””][/vc_column][/vc_row]
URL:https://www.ecuhealth.org/event/taking-control-of-tomorrow-advance-care-planning-wilson/2025-10-23/
LOCATION:ECU Health Healthplex – Wilson\, 3724 Raleigh Rd. Parkway West\, Wilson\, NC\, 27896\, United States
CATEGORIES:Advance Care Planning
ATTACH;FMTTYPE=image/jpeg:https://www.ecuhealth.org/wp-content/uploads/2020/12/PatientFamilies_PatientAdvocates_Advisor.jpg
ORGANIZER;CN="ECU Health Advance Care Planning":MAILTO:AdvanceCare@ecuhealth.org
GEO:35.7493094;-77.9674852
X-APPLE-STRUCTURED-LOCATION;VALUE=URI;X-ADDRESS=ECU Health Healthplex – Wilson 3724 Raleigh Rd. Parkway West Wilson NC 27896 United States;X-APPLE-RADIUS=500;X-TITLE=3724 Raleigh Rd. Parkway West:geo:-77.9674852,35.7493094
END:VEVENT
END:VCALENDAR