BEGIN:VCALENDAR
VERSION:2.0
PRODID:-//ECU Health - ECPv6.15.20//NONSGML v1.0//EN
CALSCALE:GREGORIAN
METHOD:PUBLISH
X-WR-CALNAME:ECU Health
X-ORIGINAL-URL:https://www.ecuhealth.org
X-WR-CALDESC:Events for ECU Health
REFRESH-INTERVAL;VALUE=DURATION:PT1H
X-Robots-Tag:noindex
X-PUBLISHED-TTL:PT1H
BEGIN:VTIMEZONE
TZID:America/New_York
BEGIN:DAYLIGHT
TZOFFSETFROM:-0500
TZOFFSETTO:-0400
TZNAME:EDT
DTSTART:20240310T070000
END:DAYLIGHT
BEGIN:STANDARD
TZOFFSETFROM:-0400
TZOFFSETTO:-0500
TZNAME:EST
DTSTART:20241103T060000
END:STANDARD
BEGIN:DAYLIGHT
TZOFFSETFROM:-0500
TZOFFSETTO:-0400
TZNAME:EDT
DTSTART:20250309T070000
END:DAYLIGHT
BEGIN:STANDARD
TZOFFSETFROM:-0400
TZOFFSETTO:-0500
TZNAME:EST
DTSTART:20251102T060000
END:STANDARD
BEGIN:DAYLIGHT
TZOFFSETFROM:-0500
TZOFFSETTO:-0400
TZNAME:EDT
DTSTART:20260308T070000
END:DAYLIGHT
BEGIN:STANDARD
TZOFFSETFROM:-0400
TZOFFSETTO:-0500
TZNAME:EST
DTSTART:20261101T060000
END:STANDARD
END:VTIMEZONE
BEGIN:VEVENT
DTSTART;TZID=America/New_York:20251113T110000
DTEND;TZID=America/New_York:20251113T120000
DTSTAMP:20260423T115044
CREATED:20231024T152738Z
LAST-MODIFIED:20231030T143802Z
UID:10006487-1763031600-1763035200@www.ecuhealth.org
SUMMARY:Brain Injury Support Group
DESCRIPTION:[vc_row][vc_column][vc_single_image image=”4871″ img_size=”full”][/vc_column][/vc_row][vc_row][vc_column][vc_column_text]Support groups are a great way to meet others who have experienced similar things you and your family have been through as a brain injury survivor. Meetings are open to brain injury survivors\, both traumatic and non-traumatic\, stroke survivors\, and loved ones and/or caregivers. \nMeeting topics include: \n\nSharing challenges\, recovery progress\, helpful tips\, encouragement\nCoping skills\, emotional support\, social interactions\, spirituality\nStroke symptoms\, medical concerns\, medications\nHealthy living\, exercise\, diet\, activities\, speakers and treats\n\n[/vc_column_text][/vc_column][/vc_row][vc_row][vc_column][vc_column_text]This event is hosted on the second Thursday of each month at 11 a.m. at ECU Health Medical Center’s Rehabilitation Classroom. Free parking is available with plenty of handicap spaces. \nTo register or for more information\, email group leaders Michele Horvath (michele.horvath@ecuhealth.org) or Alex Kinney (akinney@ecuhealth.org) or call 252-847-0571. We look forward to meeting you![/vc_column_text][/vc_column][/vc_row]
URL:https://www.ecuhealth.org/event/brain-injury-support-group-2/2025-11-13/
LOCATION:ECU Health Medical Center Rehabilitation Classroom\, 2115 Hospital Loop Road\, Greenville\, NC\, 27834\, United States
CATEGORIES:Neurological Care
ATTACH;FMTTYPE=image/jpeg:https://www.ecuhealth.org/wp-content/uploads/2021/04/stroke_Support_3_FB.jpg
GEO:35.6058264;-77.406598
X-APPLE-STRUCTURED-LOCATION;VALUE=URI;X-ADDRESS=ECU Health Medical Center Rehabilitation Classroom 2115 Hospital Loop Road Greenville NC 27834 United States;X-APPLE-RADIUS=500;X-TITLE=2115 Hospital Loop Road:geo:-77.406598,35.6058264
END:VEVENT
BEGIN:VEVENT
DTSTART;TZID=America/New_York:20251113T113000
DTEND;TZID=America/New_York:20251113T123000
DTSTAMP:20260423T115044
CREATED:20251027T162753Z
LAST-MODIFIED:20251027T162753Z
UID:10009884-1763033400-1763037000@www.ecuhealth.org
SUMMARY:ECU Health Lifestyle Medicine Clinic - November Diabetes Awareness Month "Walking Down Diabetes" Community Walk
DESCRIPTION:[vc_row][vc_column width=”1/2″][vc_column_text css=””]Walking Down Diabetes 2025 \nCommunity walk for anyone interested in stepping outdoors\, enjoying the sunshine\, chatting with others\, and benefits of low impact\, free activity in our area. Come out for 1 lap around the track\, walk for 10 minutes to 60 minutes whatever works for you\, your health\, and your time. Walk down diabetes\, your sugars\, your pounds\, your blood pressure while improving your mood\, muscle mass\, and bone health to name a few.[/vc_column_text][/vc_column][vc_column width=”1/2″][vc_single_image image=”44318″ img_size=”full” css=””][/vc_column][/vc_row]
URL:https://www.ecuhealth.org/event/ecu-health-lifestyle-medicine-clinic-november-diabetes-awareness-month-walking-down-diabetes-community-walk/
LOCATION:ECU Health Lifestyle Medicine Clinic – Greenville\, 2610 Stantonsburg Rd.\, Greenville\, NC\, 27835\, United States
CATEGORIES:Lifestyle Medicine
ATTACH;FMTTYPE=image/jpeg:https://www.ecuhealth.org/wp-content/uploads/2025/07/GettyImages-1486145188.jpg
GEO:35.6075542;-77.4180204
X-APPLE-STRUCTURED-LOCATION;VALUE=URI;X-ADDRESS=ECU Health Lifestyle Medicine Clinic – Greenville 2610 Stantonsburg Rd. Greenville NC 27835 United States;X-APPLE-RADIUS=500;X-TITLE=2610 Stantonsburg Rd.:geo:-77.4180204,35.6075542
END:VEVENT
BEGIN:VEVENT
DTSTART;TZID=America/New_York:20251113T170000
DTEND;TZID=America/New_York:20251113T210000
DTSTAMP:20260423T115044
CREATED:20250106T132225Z
LAST-MODIFIED:20251015T145655Z
UID:10009720-1763053200-1763067600@www.ecuhealth.org
SUMMARY:ECU Health Medical Center – In-Person Childbirth Class
DESCRIPTION:[vc_row][vc_column width=”1/2″][vc_column_text]Taught by our very own ECU Health Medical Center nurses\, our childbirth class offers instruction on the labor and delivery process. Topics discussed during this session include the labor process\, hospital birth plans\, when to contact medical providers\, breathing techniques\, medication\, self-care and methods of childbirth. Take part in our Childbirth class close to your due date 28 to 35 weeks of pregnancy to keep the information fresh in your mind. The cost is $75 per couple.[/vc_column_text][/vc_column][vc_column width=”1/2″][vc_single_image image=”6277″ img_size=”full” css=””][/vc_column][/vc_row]
URL:https://www.ecuhealth.org/event/ecu-health-medical-center-in-person-childbirth-class/2025-11-13/
CATEGORIES:Children's,Women's Services
ATTACH;FMTTYPE=image/jpeg:https://www.ecuhealth.org/wp-content/uploads/2021/09/vidant_Breastfeeding_3449.jpeg
END:VEVENT
BEGIN:VEVENT
DTSTART;TZID=America/New_York:20251113T170000
DTEND;TZID=America/New_York:20251113T210000
DTSTAMP:20260423T115044
CREATED:20250721T183218Z
LAST-MODIFIED:20251015T145806Z
UID:10009847-1763053200-1763067600@www.ecuhealth.org
SUMMARY:ECU Health Beaufort – In-Person Childbirth Class
DESCRIPTION:[vc_row][vc_column width=”1/2″][vc_column_text]Taught by our very own ECU Health Beaufort nurse\, our childbirth class offers instruction on the labor and delivery process. Topics discussed: \nBefore you Give Birth – Includes making arrangements\, taking care of yourself\, learning how to manage pain. \nWhat Happens During Childbirth – Includes understanding labor\, medical interventions\, types of births. \nAfter you Give Birth – Includes caring for your newborn\, postpartum changes and self-care. \nTour of our Labor and Delivery Unit\nTake part in our Childbirth class close to your due date 28 to 35 weeks of pregnancy to keep the information fresh in your mind. The cost is $25 per couple.[/vc_column_text][/vc_column][vc_column width=”1/2″][vc_single_image image=”4876″ img_size=”full” css=””][/vc_column][/vc_row]
URL:https://www.ecuhealth.org/event/ecu-health-beaufort-in-person-childbirth-class/2025-11-13/
LOCATION:ECU Health Beaufort\, 628 E 12th St\, Washington\, NC\, 27889\, United States
CATEGORIES:Women's Services
ATTACH;FMTTYPE=image/jpeg:https://www.ecuhealth.org/wp-content/uploads/2021/04/childbirth_2_FB.jpg
END:VEVENT
END:VCALENDAR