BEGIN:VCALENDAR
VERSION:2.0
PRODID:-//ECU Health - ECPv6.15.20//NONSGML v1.0//EN
CALSCALE:GREGORIAN
METHOD:PUBLISH
X-ORIGINAL-URL:https://www.ecuhealth.org
X-WR-CALDESC:Events for ECU Health
REFRESH-INTERVAL;VALUE=DURATION:PT1H
X-Robots-Tag:noindex
X-PUBLISHED-TTL:PT1H
BEGIN:VTIMEZONE
TZID:America/New_York
BEGIN:DAYLIGHT
TZOFFSETFROM:-0500
TZOFFSETTO:-0400
TZNAME:EDT
DTSTART:20250309T070000
END:DAYLIGHT
BEGIN:STANDARD
TZOFFSETFROM:-0400
TZOFFSETTO:-0500
TZNAME:EST
DTSTART:20251102T060000
END:STANDARD
BEGIN:DAYLIGHT
TZOFFSETFROM:-0500
TZOFFSETTO:-0400
TZNAME:EDT
DTSTART:20260308T070000
END:DAYLIGHT
BEGIN:STANDARD
TZOFFSETFROM:-0400
TZOFFSETTO:-0500
TZNAME:EST
DTSTART:20261101T060000
END:STANDARD
BEGIN:DAYLIGHT
TZOFFSETFROM:-0500
TZOFFSETTO:-0400
TZNAME:EDT
DTSTART:20270314T070000
END:DAYLIGHT
BEGIN:STANDARD
TZOFFSETFROM:-0400
TZOFFSETTO:-0500
TZNAME:EST
DTSTART:20271107T060000
END:STANDARD
END:VTIMEZONE
BEGIN:VEVENT
DTSTART;TZID=America/New_York:20260121T180000
DTEND;TZID=America/New_York:20260121T193000
DTSTAMP:20260423T210533
CREATED:20251210T135116Z
LAST-MODIFIED:20260310T132609Z
UID:10010107-1769018400-1769023800@www.ecuhealth.org
SUMMARY:ECU Health Infant/Child CPR Class- Greenville NC
DESCRIPTION:[vc_row][vc_column width=”1/2″][vc_column_text]Learn INFANT & CHILD CPR Choking rescue in a hands-on instructor led environment. CPR is ideal for parents\, grandparents\, baby sitters and others who want to learn infant CPR but DO NOT need a certification to meet a job requirement. Registration is required please email womens@ecuhealth.org or call 252-847-4819 to register or for questions. Registration closes three business days before class.[/vc_column_text][/vc_column][vc_column width=”1/2″][vc_single_image image=”4999″ img_size=”full” css=””][/vc_column][/vc_row]
URL:https://www.ecuhealth.org/event/ecu-health-infant-child-cpr-class-greenville-nc/2026-01-21/
LOCATION:ECU Health Medical Center\, 2100 Stantonsburg Road\, Greenville\, NC\, 27834\, United States
CATEGORIES:Women's Services
ATTACH;FMTTYPE=image/jpeg:https://www.ecuhealth.org/wp-content/uploads/2021/05/InfantCPR_1_thumb.jpg
GEO:35.60757;-77.4038515
X-APPLE-STRUCTURED-LOCATION;VALUE=URI;X-ADDRESS=ECU Health Medical Center 2100 Stantonsburg Road Greenville NC 27834 United States;X-APPLE-RADIUS=500;X-TITLE=2100 Stantonsburg Road:geo:-77.4038515,35.60757
END:VEVENT
END:VCALENDAR