BEGIN:VCALENDAR
VERSION:2.0
PRODID:-//ECU Health - ECPv6.15.20//NONSGML v1.0//EN
CALSCALE:GREGORIAN
METHOD:PUBLISH
X-ORIGINAL-URL:https://www.ecuhealth.org
X-WR-CALDESC:Events for ECU Health
REFRESH-INTERVAL;VALUE=DURATION:PT1H
X-Robots-Tag:noindex
X-PUBLISHED-TTL:PT1H
BEGIN:VTIMEZONE
TZID:America/New_York
BEGIN:DAYLIGHT
TZOFFSETFROM:-0500
TZOFFSETTO:-0400
TZNAME:EDT
DTSTART:20250309T070000
END:DAYLIGHT
BEGIN:STANDARD
TZOFFSETFROM:-0400
TZOFFSETTO:-0500
TZNAME:EST
DTSTART:20251102T060000
END:STANDARD
BEGIN:DAYLIGHT
TZOFFSETFROM:-0500
TZOFFSETTO:-0400
TZNAME:EDT
DTSTART:20260308T070000
END:DAYLIGHT
BEGIN:STANDARD
TZOFFSETFROM:-0400
TZOFFSETTO:-0500
TZNAME:EST
DTSTART:20261101T060000
END:STANDARD
BEGIN:DAYLIGHT
TZOFFSETFROM:-0500
TZOFFSETTO:-0400
TZNAME:EDT
DTSTART:20270314T070000
END:DAYLIGHT
BEGIN:STANDARD
TZOFFSETFROM:-0400
TZOFFSETTO:-0500
TZNAME:EST
DTSTART:20271107T060000
END:STANDARD
END:VTIMEZONE
BEGIN:VEVENT
DTSTART;TZID=America/New_York:20260406T173000
DTEND;TZID=America/New_York:20260407T190000
DTSTAMP:20260424T020402
CREATED:20240703T172522Z
LAST-MODIFIED:20250811T132617Z
UID:10008595-1775496600-1775588400@www.ecuhealth.org
SUMMARY:Living On After Loss
DESCRIPTION:[vc_row][vc_column][vc_single_image image=”8593″ img_size=”full” css=””][vc_column_text css=””]Losing a loved one is devastating and learning how to continue living can be challenging. Loneliness is just one of the many feelings a grieving person may experience. ECU Health Home Health and Hospice offers a community-based grief program “Living On After Loss.” Facilitators guide participants through an eight-week grief journey\, following the death of a loved one. Anyone over the age of 18 is welcome to attend. There is no charge to participate. Whether it is an expected or unexpected death\, those left on this earth are welcome. \nGrief is different and unique for each person. There is no right or wrong method of grieving. This is a nonfaith-based program and a supportive environment for all attendees. \nRegistration is required.[/vc_column_text][/vc_column][/vc_row]
URL:https://www.ecuhealth.org/event/living-on-after-loss/2026-04-06/
LOCATION:McConnell-Raab Hope Lodge – Conference Room\, 930 Wellness Drive\, Greenville\, NC\, 27834\, United States
CATEGORIES:Home Health and Hospice
ATTACH;FMTTYPE=image/jpeg:https://www.ecuhealth.org/wp-content/uploads/2023/02/Support-Group-2023.jpg
GEO:35.6099789;-77.4157284
X-APPLE-STRUCTURED-LOCATION;VALUE=URI;X-ADDRESS=McConnell-Raab Hope Lodge – Conference Room 930 Wellness Drive Greenville NC 27834 United States;X-APPLE-RADIUS=500;X-TITLE=930 Wellness Drive:geo:-77.4157284,35.6099789
END:VEVENT
BEGIN:VEVENT
DTSTART;TZID=America/New_York:20260407T180000
DTEND;TZID=America/New_York:20260407T193000
DTSTAMP:20260424T020402
CREATED:20240506T144925Z
LAST-MODIFIED:20240506T144925Z
UID:10008327-1775584800-1775590200@www.ecuhealth.org
SUMMARY:Chowan Breastfeeding Class
DESCRIPTION:[vc_row][vc_column][vc_single_image image=”3922″ img_size=”full” css=””][vc_column_text css=””] \n\n\n\n\n\n\n\nOur Breastfeeding Class at ECU Health Chowan Hospital offers basic instruction on how to breastfeed your baby. Knowledge is the key to making this exciting time easier for your family. Your support person is welcomed to this class and it is recommend to take this session before 30 weeks. \nWe discuss the importance of skin-to-skin\, breastfeeding in the first hour of birth\, practices related to breastfeeding in the immediate postpartum period and breastfeeding after returning to work. \nRegistration is required. \n\n\n\n\n\n\n\n[/vc_column_text][/vc_column][/vc_row]
URL:https://www.ecuhealth.org/event/chowan-breastfeeding-class/2026-04-07/
LOCATION:ECU Health Chowan Hospital Education Center Classrooms\, 211 Virginia Road\, Edenton\,\, NC\, 27932\, United States
CATEGORIES:Women's Services
ATTACH;FMTTYPE=image/jpeg:https://www.ecuhealth.org/wp-content/uploads/2020/12/Events_VMC_Virtual_BreastFeed_Featured_IMG-1.jpg
GEO:36.0699925;-76.6112149
X-APPLE-STRUCTURED-LOCATION;VALUE=URI;X-ADDRESS=ECU Health Chowan Hospital Education Center Classrooms 211 Virginia Road Edenton NC 27932 United States;X-APPLE-RADIUS=500;X-TITLE=211 Virginia Road:geo:-76.6112149,36.0699925
END:VEVENT
BEGIN:VEVENT
DTSTART;TZID=America/New_York:20260407T180000
DTEND;TZID=America/New_York:20260407T193000
DTSTAMP:20260424T020402
CREATED:20260112T155036Z
LAST-MODIFIED:20260112T155036Z
UID:10010195-1775584800-1775590200@www.ecuhealth.org
SUMMARY:Breastfeeding Class
DESCRIPTION:[vc_row][vc_column width=”1/2″][vc_column_text]In-depth Breastfeeding Class recommended before 30 weeks. Bring you support person for this FREE class offered the 1st Tuesday each month @ 6 -7:30 pm\nKnowledge is the key to making this exciting time easier for you and your family. \nAlso\, check out the schedule for Breastfeeding Support Group offered on the 3rd Tues each month @ 10 am.[/vc_column_text][/vc_column][vc_column width=”1/2″][vc_single_image image=”4864″ img_size=”full” css=””][/vc_column][/vc_row]
URL:https://www.ecuhealth.org/event/breastfeeding-class-2/2026-04-07/
LOCATION:ECU Health Chowan Hospital\, Virginia Road\, Edenton\, NC\, 27932\, United States
CATEGORIES:Women's Services
ATTACH;FMTTYPE=image/jpeg:https://www.ecuhealth.org/wp-content/uploads/2021/04/breastfeeding_3_FB.jpg
GEO:36.0699925;-76.6112149
X-APPLE-STRUCTURED-LOCATION;VALUE=URI;X-ADDRESS=ECU Health Chowan Hospital Virginia Road Edenton NC 27932 United States;X-APPLE-RADIUS=500;X-TITLE=Virginia Road:geo:-76.6112149,36.0699925
END:VEVENT
END:VCALENDAR