BEGIN:VCALENDAR
VERSION:2.0
PRODID:-//ECU Health - ECPv6.15.20//NONSGML v1.0//EN
CALSCALE:GREGORIAN
METHOD:PUBLISH
X-ORIGINAL-URL:https://www.ecuhealth.org
X-WR-CALDESC:Events for ECU Health
REFRESH-INTERVAL;VALUE=DURATION:PT1H
X-Robots-Tag:noindex
X-PUBLISHED-TTL:PT1H
BEGIN:VTIMEZONE
TZID:America/New_York
BEGIN:DAYLIGHT
TZOFFSETFROM:-0500
TZOFFSETTO:-0400
TZNAME:EDT
DTSTART:20250309T070000
END:DAYLIGHT
BEGIN:STANDARD
TZOFFSETFROM:-0400
TZOFFSETTO:-0500
TZNAME:EST
DTSTART:20251102T060000
END:STANDARD
BEGIN:DAYLIGHT
TZOFFSETFROM:-0500
TZOFFSETTO:-0400
TZNAME:EDT
DTSTART:20260308T070000
END:DAYLIGHT
BEGIN:STANDARD
TZOFFSETFROM:-0400
TZOFFSETTO:-0500
TZNAME:EST
DTSTART:20261101T060000
END:STANDARD
BEGIN:DAYLIGHT
TZOFFSETFROM:-0500
TZOFFSETTO:-0400
TZNAME:EDT
DTSTART:20270314T070000
END:DAYLIGHT
BEGIN:STANDARD
TZOFFSETFROM:-0400
TZOFFSETTO:-0500
TZNAME:EST
DTSTART:20271107T060000
END:STANDARD
END:VTIMEZONE
BEGIN:VEVENT
DTSTART;TZID=America/New_York:20260609T120000
DTEND;TZID=America/New_York:20260609T130000
DTSTAMP:20260424T013415
CREATED:20240508T205326Z
LAST-MODIFIED:20260213T200731Z
UID:10009595-1781006400-1781010000@www.ecuhealth.org
SUMMARY:Parkinson’s Disease Support Group — Greenville
DESCRIPTION:[vc_row][vc_column][vc_single_image image=”3355″ img_size=”full” css=””][vc_column_text css=””]Whether you’ve recently been diagnosed with Parkinson’s disease\, are a caregiver or just looking to learn more\, we welcome you to become part of our supportive community. Together\, we can tackle the hurdles of Parkison’s and draw strength\, resilience and hope from each other’s presence. Our support group provides a safe and compassionate space for individuals with Parkison’s and their caregivers to connect. These meetings center around education\, socializing and accessing community resources. \nParking is free and light refreshments will be provided. \nTopics of conversation include: \n\nDefining Parkinson’s disease and risk factors\nDeep brain stimulation therapy and other surgical therapies\nTreatment of motor fluctuations and dyskinesias\nImportance of exercise and diet\n\n[/vc_column_text][vc_column_text css=””]For more information\, email: Kiara.Robins@ecuhealth.org[/vc_column_text][/vc_column][/vc_row]
URL:https://www.ecuhealth.org/event/parkinsons-disease-support-group/2026-06-09/
LOCATION:ECU Health Wellness Center – Greenville\, 2610 Stantonsburg Rd.\, Greenville\, NC\, 27834\, United States
CATEGORIES:Neurological Care
ATTACH;FMTTYPE=image/jpeg:https://www.ecuhealth.org/wp-content/uploads/2023/02/Support-Group-2023.jpg
GEO:35.6075542;-77.4180204
X-APPLE-STRUCTURED-LOCATION;VALUE=URI;X-ADDRESS=ECU Health Wellness Center – Greenville 2610 Stantonsburg Rd. Greenville NC 27834 United States;X-APPLE-RADIUS=500;X-TITLE=2610 Stantonsburg Rd.:geo:-77.4180204,35.6075542
END:VEVENT
END:VCALENDAR