BEGIN:VCALENDAR
VERSION:2.0
PRODID:-//ECU Health - ECPv6.15.20//NONSGML v1.0//EN
CALSCALE:GREGORIAN
METHOD:PUBLISH
X-WR-CALNAME:ECU Health
X-ORIGINAL-URL:https://www.ecuhealth.org
X-WR-CALDESC:Events for ECU Health
REFRESH-INTERVAL;VALUE=DURATION:PT1H
X-Robots-Tag:noindex
X-PUBLISHED-TTL:PT1H
BEGIN:VTIMEZONE
TZID:America/New_York
BEGIN:DAYLIGHT
TZOFFSETFROM:-0500
TZOFFSETTO:-0400
TZNAME:EDT
DTSTART:20250309T070000
END:DAYLIGHT
BEGIN:STANDARD
TZOFFSETFROM:-0400
TZOFFSETTO:-0500
TZNAME:EST
DTSTART:20251102T060000
END:STANDARD
BEGIN:DAYLIGHT
TZOFFSETFROM:-0500
TZOFFSETTO:-0400
TZNAME:EDT
DTSTART:20260308T070000
END:DAYLIGHT
BEGIN:STANDARD
TZOFFSETFROM:-0400
TZOFFSETTO:-0500
TZNAME:EST
DTSTART:20261101T060000
END:STANDARD
BEGIN:DAYLIGHT
TZOFFSETFROM:-0500
TZOFFSETTO:-0400
TZNAME:EDT
DTSTART:20270314T070000
END:DAYLIGHT
BEGIN:STANDARD
TZOFFSETFROM:-0400
TZOFFSETTO:-0500
TZNAME:EST
DTSTART:20271107T060000
END:STANDARD
END:VTIMEZONE
BEGIN:VEVENT
DTSTART;TZID=America/New_York:20260801T090000
DTEND;TZID=America/New_York:20260801T150000
DTSTAMP:20260422T145207
CREATED:20251202T160251Z
LAST-MODIFIED:20251202T160251Z
UID:10010041-1785574800-1785596400@www.ecuhealth.org
SUMMARY:ECU Health Beaufort – In-Person Childbirth Class
DESCRIPTION:[vc_row][vc_column width=”1/2″][vc_column_text]Taught by our very own ECU Health Beaufort nurse\, our childbirth class offers instruction on the labor and delivery process. Topics discussed: \nBefore you Give Birth – Includes making arrangements\, taking care of yourself\, learning how to manage pain. \nWhat Happens During Childbirth – Includes understanding labor\, medical interventions\, types of births. \nAfter you Give Birth – Includes caring for your newborn\, postpartum changes and self-care. \nTour of our Labor and Delivery Unit\nTake part in our Childbirth class close to your due date 28 to 35 weeks of pregnancy to keep the information fresh in your mind. The cost is $25 per couple.[/vc_column_text][/vc_column][vc_column width=”1/2″][vc_single_image image=”3901″ img_size=”full” css=””][/vc_column][/vc_row]
URL:https://www.ecuhealth.org/event/ecu-health-beaufort-in-person-childbirth-class-2/2026-08-01/
CATEGORIES:Women's Services
ATTACH;FMTTYPE=image/jpeg:https://www.ecuhealth.org/wp-content/uploads/2020/12/Events_Childbirth_Class_Featured_IMG-1.jpg
END:VEVENT
END:VCALENDAR