BEGIN:VCALENDAR
VERSION:2.0
PRODID:-//ECU Health - ECPv6.15.20//NONSGML v1.0//EN
CALSCALE:GREGORIAN
METHOD:PUBLISH
X-ORIGINAL-URL:https://www.ecuhealth.org
X-WR-CALDESC:Events for ECU Health
REFRESH-INTERVAL;VALUE=DURATION:PT1H
X-Robots-Tag:noindex
X-PUBLISHED-TTL:PT1H
BEGIN:VTIMEZONE
TZID:America/New_York
BEGIN:DAYLIGHT
TZOFFSETFROM:-0500
TZOFFSETTO:-0400
TZNAME:EDT
DTSTART:20250309T070000
END:DAYLIGHT
BEGIN:STANDARD
TZOFFSETFROM:-0400
TZOFFSETTO:-0500
TZNAME:EST
DTSTART:20251102T060000
END:STANDARD
BEGIN:DAYLIGHT
TZOFFSETFROM:-0500
TZOFFSETTO:-0400
TZNAME:EDT
DTSTART:20260308T070000
END:DAYLIGHT
BEGIN:STANDARD
TZOFFSETFROM:-0400
TZOFFSETTO:-0500
TZNAME:EST
DTSTART:20261101T060000
END:STANDARD
BEGIN:DAYLIGHT
TZOFFSETFROM:-0500
TZOFFSETTO:-0400
TZNAME:EDT
DTSTART:20270314T070000
END:DAYLIGHT
BEGIN:STANDARD
TZOFFSETFROM:-0400
TZOFFSETTO:-0500
TZNAME:EST
DTSTART:20271107T060000
END:STANDARD
END:VTIMEZONE
BEGIN:VEVENT
DTSTART;TZID=America/New_York:20260304T100000
DTEND;TZID=America/New_York:20260304T110000
DTSTAMP:20260424T070820
CREATED:20260119T145327Z
LAST-MODIFIED:20260119T145327Z
UID:10010307-1772618400-1772622000@www.ecuhealth.org
SUMMARY:Talk now. Get Peace of Mind
DESCRIPTION:[vc_row][vc_column][vc_single_image image=”46669″ img_size=”full”][vc_column_text]Do you know who would make medical decisions for you if you do not have a Health Care Power of Attorney Advance Directive? Are your decision makers aware of any health outcomes that are unacceptable to you and are they prepared to represent you? \nJoin us for a FREE session to learn the who\, what\, when\, where\, how\, and most importantly\, the WHY of advance care planning. At ECU Health\, we want to provide care that matches the medical treatment(s) that you choose. We also want the person that guides decisions about your care to make the decisions that you would make. \nLearn more about how to be sure that your voice is heard even when you can’t speak for yourself by completing a legal Health Care Power of Attorney and Living Will Advance Directive. \nTrained staff will be available to answer questions you may have and to assist you with completion of these documents with FREE notary support. Photo ID is required for completion of documents. \nIf you have already completed your Advance Directives and would like to have them scanned into your ECU Health electronic health record\, please feel free to bring your documents to this class for assistance.[/vc_column_text][/vc_column][/vc_row]
URL:https://www.ecuhealth.org/event/talk-now-get-peace-of-mind-2/2026-03-04/
LOCATION:Virginia Tillett Community Center\, 950 Marshall C. Collins Drive\, Manteo\, North Carolina\, 27954
CATEGORIES:Advance Care Planning,Wellness
ATTACH;FMTTYPE=image/jpeg:https://www.ecuhealth.org/wp-content/uploads/2026/01/616803728_1321911229953151_1103888333159898133_n.jpg
ORGANIZER;CN="ECU Health Advance Care Planning":MAILTO:AdvanceCare@ecuhealth.org
GEO:35.8907369;-75.6629939
X-APPLE-STRUCTURED-LOCATION;VALUE=URI;X-ADDRESS=Virginia Tillett Community Center 950 Marshall C. Collins Drive Manteo North Carolina 27954;X-APPLE-RADIUS=500;X-TITLE=950 Marshall C. Collins Drive:geo:-75.6629939,35.8907369
END:VEVENT
BEGIN:VEVENT
DTSTART;TZID=America/New_York:20260304T120000
DTEND;TZID=America/New_York:20260304T130000
DTSTAMP:20260424T070820
CREATED:20260119T145045Z
LAST-MODIFIED:20260119T145122Z
UID:10010298-1772625600-1772629200@www.ecuhealth.org
SUMMARY:Talk now. Get Peace of Mind
DESCRIPTION:[vc_row][vc_column][vc_single_image image=”46669″ img_size=”full” css=””][vc_column_text]Do you know who would make medical decisions for you if you do not have a Health Care Power of Attorney Advance Directive? Are your decision makers aware of any health outcomes that are unacceptable to you and are they prepared to represent you? \nJoin us for a FREE session to learn the who\, what\, when\, where\, how\, and most importantly\, the WHY of advance care planning. At ECU Health\, we want to provide care that matches the medical treatment(s) that you choose. We also want the person that guides decisions about your care to make the decisions that you would make. \nLearn more about how to be sure that your voice is heard even when you can’t speak for yourself by completing a legal Health Care Power of Attorney and Living Will Advance Directive. \nTrained staff will be available to answer questions you may have and to assist you with completion of these documents with FREE notary support. Photo ID is required for completion of documents. \nIf you have already completed your Advance Directives and would like to have them scanned into your ECU Health electronic health record\, please feel free to bring your documents to this class for assistance.[/vc_column_text][/vc_column][/vc_row]
URL:https://www.ecuhealth.org/event/talk-now-get-peace-of-mind/2026-03-04/
LOCATION:Baum Senior Center\, 300 Mustian Street\, Kill Devil Hills\, NC\, 27948\, United States
CATEGORIES:Advance Care Planning,Wellness
ATTACH;FMTTYPE=image/jpeg:https://www.ecuhealth.org/wp-content/uploads/2026/01/Grandma-for-Dare-County.jpg
ORGANIZER;CN="ECU Health Advance Care Planning":MAILTO:AdvanceCare@ecuhealth.org
GEO:36.0110585;-75.662402
X-APPLE-STRUCTURED-LOCATION;VALUE=URI;X-ADDRESS=Baum Senior Center 300 Mustian Street Kill Devil Hills NC 27948 United States;X-APPLE-RADIUS=500;X-TITLE=300 Mustian Street:geo:-75.662402,36.0110585
END:VEVENT
BEGIN:VEVENT
DTSTART;TZID=America/New_York:20260306T103000
DTEND;TZID=America/New_York:20260306T133000
DTSTAMP:20260424T070820
CREATED:20251215T154404Z
LAST-MODIFIED:20251215T154404Z
UID:10010136-1772793000-1772803800@www.ecuhealth.org
SUMMARY:Free Adult Wellness Screenings
DESCRIPTION:[vc_row][vc_column width=”1/2″][vc_column_text css=””] \nCommunity Health Programs invites you to a free adult wellness screening. Our health professionals will check your body mass index (BMI)\, blood pressure\, glucose\, and cholesterol levels. Knowing these numbers is key to preventing and managing chronic diseases. Join us to take charge of your health and connect with your community. We look forward to seeing you there! \n[/vc_column_text][/vc_column][vc_column width=”1/2″][vc_single_image image=”4469″ img_size=”full” css=””][/vc_column][/vc_row]
URL:https://www.ecuhealth.org/event/free-adult-wellness-screenings-16/
LOCATION:Whaley’s Supermarket\, 906 E. Main St.\, Beulaville\, NC\, 28518\, United States
CATEGORIES:Wellness
ATTACH;FMTTYPE=image/jpeg:https://www.ecuhealth.org/wp-content/uploads/2021/02/screenings-female-adults.jpg
GEO:34.9211918;-77.7638936
X-APPLE-STRUCTURED-LOCATION;VALUE=URI;X-ADDRESS=Whaley’s Supermarket 906 E. Main St. Beulaville NC 28518 United States;X-APPLE-RADIUS=500;X-TITLE=906 E. Main St.:geo:-77.7638936,34.9211918
END:VEVENT
BEGIN:VEVENT
DTSTART;TZID=America/New_York:20260310T140000
DTEND;TZID=America/New_York:20260310T160000
DTSTAMP:20260424T070820
CREATED:20260126T152135Z
LAST-MODIFIED:20260126T152135Z
UID:10010338-1773151200-1773158400@www.ecuhealth.org
SUMMARY:Taking Control of Tomorrow:  Advance Care Planning
DESCRIPTION:[vc_row][vc_column width=”1/2″][vc_column_text]Who would you want to make medical decisions for you if you could not speak for yourself? You can name a health care agent in the Health Care Power of Attorney advance directive\, and by doing so\, this person will have the legal authority to represent you in a medical crisis if/when you can’t speak for yourself. You may also choose to complete a Living Will and indicate the types of care you would want or not want\, at the end of life. \nJoin us for an educational session to learn the who\, what\, when\, where\, how\, and most importantly\, the WHY of advance care planning. At ECU Health\, we want to provide care that matches the medical treatment(s) that you choose. We also want the person that guides decisions about your care to make the decisions that you would make. \nTrained staff will be available to answer questions you may have and to assist you with completion of these documents with FREE notary support. \nPhoto ID is required for completion of documents. \nIf you have already completed your Advance Directives and would like to have them scanned into your ECU Health electronic health record\, please feel free to bring your documents to this class for assistance.[/vc_column_text][/vc_column][vc_column width=”1/2″][vc_single_image image=”46669″ img_size=”full”][/vc_column][/vc_row]
URL:https://www.ecuhealth.org/event/taking-control-of-tomorrow-advance-care-planning-3/2026-03-10/
LOCATION:AmeriHealth Caritas Wellness and Opportunity Center\, 1876 W Arlington Blvd\, Greenville\, NC\, 27834\, United States
CATEGORIES:Advance Care Planning,Wellness
ATTACH;FMTTYPE=image/jpeg:https://www.ecuhealth.org/wp-content/uploads/2026/01/616803728_1321911229953151_1103888333159898133_n.jpg
ORGANIZER;CN="ECU Health Advance Care Planning":MAILTO:AdvanceCare@ecuhealth.org
GEO:35.5988341;-77.4063568
X-APPLE-STRUCTURED-LOCATION;VALUE=URI;X-ADDRESS=AmeriHealth Caritas Wellness and Opportunity Center 1876 W Arlington Blvd Greenville NC 27834 United States;X-APPLE-RADIUS=500;X-TITLE=1876 W Arlington Blvd:geo:-77.4063568,35.5988341
END:VEVENT
BEGIN:VEVENT
DTSTART;TZID=America/New_York:20260311T130000
DTEND;TZID=America/New_York:20260311T150000
DTSTAMP:20260424T070820
CREATED:20260119T145741Z
LAST-MODIFIED:20260119T145741Z
UID:10010314-1773234000-1773241200@www.ecuhealth.org
SUMMARY:Taking Control of Tomorrow: Advance Care Planning
DESCRIPTION:[vc_row][vc_column][vc_single_image image=”46669″ img_size=”full”][vc_column_text]Do you know who would make medical decisions for you if you do not have a Health Care Power of Attorney Advance Directive? Are your decision makers aware of any health outcomes that are unacceptable to you and are they prepared to represent you? \nJoin us for a FREE session to learn the who\, what\, when\, where\, how\, and most importantly\, the WHY of advance care planning. At ECU Health\, we want to provide care that matches the medical treatment(s) that you choose. We also want the person that guides decisions about your care to make the decisions that you would make. \nLearn more about how to be sure that your voice is heard even when you can’t speak for yourself by completing a legal Health Care Power of Attorney and Living Will Advance Directive. \nTrained staff will be available to answer questions you may have and to assist you with completion of these documents with FREE notary support. Photo ID is required for completion of documents. \nIf you have already completed your Advance Directives and would like to have them scanned into your ECU Health electronic health record\, please feel free to bring your documents to this class for assistance.[/vc_column_text][/vc_column][/vc_row]
URL:https://www.ecuhealth.org/event/taking-control-of-tomorrow-advance-care-planning-2/2026-03-11/
LOCATION:Edgecome County Memorial Library\, 909 N Main Street\, Tarboro\, NC\, 27886\, United States
CATEGORIES:Advance Care Planning,Wellness
ATTACH;FMTTYPE=image/jpeg:https://www.ecuhealth.org/wp-content/uploads/2026/01/ACP-PIcture-2026-1.jpg
ORGANIZER;CN="ECU Health Advance Care Planning":MAILTO:AdvanceCare@ecuhealth.org
GEO:35.9021014;-77.5371315
X-APPLE-STRUCTURED-LOCATION;VALUE=URI;X-ADDRESS=Edgecome County Memorial Library 909 N Main Street Tarboro NC 27886 United States;X-APPLE-RADIUS=500;X-TITLE=909 N Main Street:geo:-77.5371315,35.9021014
END:VEVENT
BEGIN:VEVENT
DTSTART;TZID=America/New_York:20260312T130000
DTEND;TZID=America/New_York:20260312T150000
DTSTAMP:20260424T070820
CREATED:20251215T154447Z
LAST-MODIFIED:20251215T154447Z
UID:10010137-1773320400-1773327600@www.ecuhealth.org
SUMMARY:Free Adult Wellness Screenings
DESCRIPTION:[vc_row][vc_column width=”1/2″][vc_column_text css=””] \nCommunity Health Programs invites you to a free adult wellness screening. Our health professionals will check your body mass index (BMI)\, blood pressure\, glucose\, and cholesterol levels. Knowing these numbers is key to preventing and managing chronic diseases. Join us to take charge of your health and connect with your community. We look forward to seeing you there! \n[/vc_column_text][/vc_column][vc_column width=”1/2″][vc_single_image image=”4469″ img_size=”full” css=””][/vc_column][/vc_row]
URL:https://www.ecuhealth.org/event/free-adult-wellness-screenings-17/
LOCATION:Pink Hill Public Library\, West Broadway Street 114\, Pink Hill\, North Carolina\, 28572\, United States
CATEGORIES:Wellness
ATTACH;FMTTYPE=image/jpeg:https://www.ecuhealth.org/wp-content/uploads/2021/02/screenings-female-adults.jpg
GEO:35.0552829;-77.7459566
X-APPLE-STRUCTURED-LOCATION;VALUE=URI;X-ADDRESS=Pink Hill Public Library West Broadway Street 114 Pink Hill North Carolina 28572 United States;X-APPLE-RADIUS=500;X-TITLE=West Broadway Street 114:geo:-77.7459566,35.0552829
END:VEVENT
BEGIN:VEVENT
DTSTART;TZID=America/New_York:20260319T113000
DTEND;TZID=America/New_York:20260319T130000
DTSTAMP:20260424T070820
CREATED:20260302T150245Z
LAST-MODIFIED:20260302T150245Z
UID:10010504-1773919800-1773925200@www.ecuhealth.org
SUMMARY:Nutrition-Powered Cooking
DESCRIPTION:[vc_row][vc_column width=”1/2″][vc_column_text]Join us in celebration of National Nutrition Month for an interactive\, live cooking session focused on the incredible benefits of a Whole Food\, Plant-Based lifestyle. Learn how simple\, unprocessed ingredients can power your day and help you thrive.[/vc_column_text][/vc_column][vc_column width=”1/2″][vc_single_image image=”47111″ img_size=”full” css=””][/vc_column][/vc_row]
URL:https://www.ecuhealth.org/event/nutrition-powered-cooking/
LOCATION:ECU Health Lifestyle Medicine Clinic – Greenville\, 2610 Stantonsburg Rd.\, Greenville\, NC\, 27835\, United States
CATEGORIES:Lifestyle Medicine,Wellness
ATTACH;FMTTYPE=image/jpeg:https://www.ecuhealth.org/wp-content/uploads/2026/03/GettyImages-1457889029-downsized.jpg
GEO:35.6075542;-77.4180204
X-APPLE-STRUCTURED-LOCATION;VALUE=URI;X-ADDRESS=ECU Health Lifestyle Medicine Clinic – Greenville 2610 Stantonsburg Rd. Greenville NC 27835 United States;X-APPLE-RADIUS=500;X-TITLE=2610 Stantonsburg Rd.:geo:-77.4180204,35.6075542
END:VEVENT
BEGIN:VEVENT
DTSTART;TZID=America/New_York:20260324T170000
DTEND;TZID=America/New_York:20260324T183000
DTSTAMP:20260424T070820
CREATED:20251202T154653Z
LAST-MODIFIED:20251202T155031Z
UID:10010086-1774371600-1774377000@www.ecuhealth.org
SUMMARY:Dining with the Doc
DESCRIPTION:[vc_row][vc_column width=”1/2″][vc_column_text]Enjoy a delicious\, whole food\, plant-based meal accompanied by recipes\, tips and lecture notes to help you on your journey to a healthier you! Led by our culinary faculty of professionally trained Chefs\, Physicians and Dietitians\, this free cooking demonstration is open to the community at no cost. Registration required.[/vc_column_text][/vc_column][vc_column width=”1/2″][vc_single_image image=”45847″ img_size=”full” css=””][/vc_column][/vc_row]
URL:https://www.ecuhealth.org/event/dining-with-the-doc-2/2026-03-24/
LOCATION:ECU Health Lifestyle Medicine Clinic – Greenville\, 2610 Stantonsburg Rd.\, Greenville\, NC\, 27835\, United States
CATEGORIES:Lifestyle Medicine,Wellness
ATTACH;FMTTYPE=image/jpeg:https://www.ecuhealth.org/wp-content/uploads/2025/11/Dr.-H.jpg
GEO:35.6075542;-77.4180204
X-APPLE-STRUCTURED-LOCATION;VALUE=URI;X-ADDRESS=ECU Health Lifestyle Medicine Clinic – Greenville 2610 Stantonsburg Rd. Greenville NC 27835 United States;X-APPLE-RADIUS=500;X-TITLE=2610 Stantonsburg Rd.:geo:-77.4180204,35.6075542
END:VEVENT
END:VCALENDAR