BEGIN:VCALENDAR
VERSION:2.0
PRODID:-//ECU Health - ECPv6.15.20//NONSGML v1.0//EN
CALSCALE:GREGORIAN
METHOD:PUBLISH
X-WR-CALNAME:ECU Health
X-ORIGINAL-URL:https://www.ecuhealth.org
X-WR-CALDESC:Events for ECU Health
REFRESH-INTERVAL;VALUE=DURATION:PT1H
X-Robots-Tag:noindex
X-PUBLISHED-TTL:PT1H
BEGIN:VTIMEZONE
TZID:America/New_York
BEGIN:DAYLIGHT
TZOFFSETFROM:-0500
TZOFFSETTO:-0400
TZNAME:EDT
DTSTART:20250309T070000
END:DAYLIGHT
BEGIN:STANDARD
TZOFFSETFROM:-0400
TZOFFSETTO:-0500
TZNAME:EST
DTSTART:20251102T060000
END:STANDARD
BEGIN:DAYLIGHT
TZOFFSETFROM:-0500
TZOFFSETTO:-0400
TZNAME:EDT
DTSTART:20260308T070000
END:DAYLIGHT
BEGIN:STANDARD
TZOFFSETFROM:-0400
TZOFFSETTO:-0500
TZNAME:EST
DTSTART:20261101T060000
END:STANDARD
BEGIN:DAYLIGHT
TZOFFSETFROM:-0500
TZOFFSETTO:-0400
TZNAME:EDT
DTSTART:20270314T070000
END:DAYLIGHT
BEGIN:STANDARD
TZOFFSETFROM:-0400
TZOFFSETTO:-0500
TZNAME:EST
DTSTART:20271107T060000
END:STANDARD
END:VTIMEZONE
BEGIN:VEVENT
DTSTART;TZID=America/New_York:20260506T100000
DTEND;TZID=America/New_York:20260506T110000
DTSTAMP:20260421T051707
CREATED:20260119T145327Z
LAST-MODIFIED:20260119T145327Z
UID:10010308-1778061600-1778065200@www.ecuhealth.org
SUMMARY:Talk now. Get Peace of Mind
DESCRIPTION:[vc_row][vc_column][vc_single_image image=”46669″ img_size=”full”][vc_column_text]Do you know who would make medical decisions for you if you do not have a Health Care Power of Attorney Advance Directive? Are your decision makers aware of any health outcomes that are unacceptable to you and are they prepared to represent you? \nJoin us for a FREE session to learn the who\, what\, when\, where\, how\, and most importantly\, the WHY of advance care planning. At ECU Health\, we want to provide care that matches the medical treatment(s) that you choose. We also want the person that guides decisions about your care to make the decisions that you would make. \nLearn more about how to be sure that your voice is heard even when you can’t speak for yourself by completing a legal Health Care Power of Attorney and Living Will Advance Directive. \nTrained staff will be available to answer questions you may have and to assist you with completion of these documents with FREE notary support. Photo ID is required for completion of documents. \nIf you have already completed your Advance Directives and would like to have them scanned into your ECU Health electronic health record\, please feel free to bring your documents to this class for assistance.[/vc_column_text][/vc_column][/vc_row]
URL:https://www.ecuhealth.org/event/talk-now-get-peace-of-mind-2/2026-05-06/
LOCATION:Virginia Tillett Community Center\, 950 Marshall C. Collins Drive\, Manteo\, North Carolina\, 27954
CATEGORIES:Advance Care Planning,Wellness
ATTACH;FMTTYPE=image/jpeg:https://www.ecuhealth.org/wp-content/uploads/2026/01/616803728_1321911229953151_1103888333159898133_n.jpg
ORGANIZER;CN="ECU Health Advance Care Planning":MAILTO:AdvanceCare@ecuhealth.org
GEO:35.8907369;-75.6629939
X-APPLE-STRUCTURED-LOCATION;VALUE=URI;X-ADDRESS=Virginia Tillett Community Center 950 Marshall C. Collins Drive Manteo North Carolina 27954;X-APPLE-RADIUS=500;X-TITLE=950 Marshall C. Collins Drive:geo:-75.6629939,35.8907369
END:VEVENT
BEGIN:VEVENT
DTSTART;TZID=America/New_York:20260506T120000
DTEND;TZID=America/New_York:20260506T130000
DTSTAMP:20260421T051707
CREATED:20260119T145045Z
LAST-MODIFIED:20260119T145122Z
UID:10010300-1778068800-1778072400@www.ecuhealth.org
SUMMARY:Talk now. Get Peace of Mind
DESCRIPTION:[vc_row][vc_column][vc_single_image image=”46669″ img_size=”full” css=””][vc_column_text]Do you know who would make medical decisions for you if you do not have a Health Care Power of Attorney Advance Directive? Are your decision makers aware of any health outcomes that are unacceptable to you and are they prepared to represent you? \nJoin us for a FREE session to learn the who\, what\, when\, where\, how\, and most importantly\, the WHY of advance care planning. At ECU Health\, we want to provide care that matches the medical treatment(s) that you choose. We also want the person that guides decisions about your care to make the decisions that you would make. \nLearn more about how to be sure that your voice is heard even when you can’t speak for yourself by completing a legal Health Care Power of Attorney and Living Will Advance Directive. \nTrained staff will be available to answer questions you may have and to assist you with completion of these documents with FREE notary support. Photo ID is required for completion of documents. \nIf you have already completed your Advance Directives and would like to have them scanned into your ECU Health electronic health record\, please feel free to bring your documents to this class for assistance.[/vc_column_text][/vc_column][/vc_row]
URL:https://www.ecuhealth.org/event/talk-now-get-peace-of-mind/2026-05-06/
LOCATION:Baum Senior Center\, 300 Mustian Street\, Kill Devil Hills\, NC\, 27948\, United States
CATEGORIES:Advance Care Planning,Wellness
ATTACH;FMTTYPE=image/jpeg:https://www.ecuhealth.org/wp-content/uploads/2026/01/Grandma-for-Dare-County.jpg
ORGANIZER;CN="ECU Health Advance Care Planning":MAILTO:AdvanceCare@ecuhealth.org
GEO:36.0110585;-75.662402
X-APPLE-STRUCTURED-LOCATION;VALUE=URI;X-ADDRESS=Baum Senior Center 300 Mustian Street Kill Devil Hills NC 27948 United States;X-APPLE-RADIUS=500;X-TITLE=300 Mustian Street:geo:-75.662402,36.0110585
END:VEVENT
BEGIN:VEVENT
DTSTART;TZID=America/New_York:20260507T173000
DTEND;TZID=America/New_York:20260507T183000
DTSTAMP:20260421T051707
CREATED:20260223T204420Z
LAST-MODIFIED:20260223T204420Z
UID:10010469-1778175000-1778178600@www.ecuhealth.org
SUMMARY:Winning With Diabetes Champions
DESCRIPTION:[vc_row][vc_column width=”1/2″][vc_column_text css=””]Join our supportive community to learn practical skills for living well with diabetes. Each month focuses on an ADCES7 Self-Care Behaviors to build confidence and improve your health and well-being. Registration is required.[/vc_column_text][/vc_column][vc_column width=”1/2″][vc_single_image image=”47003″ img_size=”full” css=””][/vc_column][/vc_row]
URL:https://www.ecuhealth.org/event/winning-with-diabetes-champions/2026-05-07/
LOCATION:ECU Health Lifestyle Medicine Clinic – Greenville\, 2610 Stantonsburg Rd.\, Greenville\, NC\, 27835\, United States
CATEGORIES:Lifestyle Medicine,Wellness
ATTACH;FMTTYPE=image/jpeg:https://www.ecuhealth.org/wp-content/uploads/2026/02/Diabetes-Letters-web.jpg
GEO:35.6075542;-77.4180204
X-APPLE-STRUCTURED-LOCATION;VALUE=URI;X-ADDRESS=ECU Health Lifestyle Medicine Clinic – Greenville 2610 Stantonsburg Rd. Greenville NC 27835 United States;X-APPLE-RADIUS=500;X-TITLE=2610 Stantonsburg Rd.:geo:-77.4180204,35.6075542
END:VEVENT
BEGIN:VEVENT
DTSTART;TZID=America/New_York:20260512T140000
DTEND;TZID=America/New_York:20260512T160000
DTSTAMP:20260421T051707
CREATED:20260126T152135Z
LAST-MODIFIED:20260126T152135Z
UID:10010339-1778594400-1778601600@www.ecuhealth.org
SUMMARY:Taking Control of Tomorrow:  Advance Care Planning
DESCRIPTION:[vc_row][vc_column width=”1/2″][vc_column_text]Who would you want to make medical decisions for you if you could not speak for yourself? You can name a health care agent in the Health Care Power of Attorney advance directive\, and by doing so\, this person will have the legal authority to represent you in a medical crisis if/when you can’t speak for yourself. You may also choose to complete a Living Will and indicate the types of care you would want or not want\, at the end of life. \nJoin us for an educational session to learn the who\, what\, when\, where\, how\, and most importantly\, the WHY of advance care planning. At ECU Health\, we want to provide care that matches the medical treatment(s) that you choose. We also want the person that guides decisions about your care to make the decisions that you would make. \nTrained staff will be available to answer questions you may have and to assist you with completion of these documents with FREE notary support. \nPhoto ID is required for completion of documents. \nIf you have already completed your Advance Directives and would like to have them scanned into your ECU Health electronic health record\, please feel free to bring your documents to this class for assistance.[/vc_column_text][/vc_column][vc_column width=”1/2″][vc_single_image image=”46669″ img_size=”full”][/vc_column][/vc_row]
URL:https://www.ecuhealth.org/event/taking-control-of-tomorrow-advance-care-planning-3/2026-05-12/
LOCATION:AmeriHealth Caritas Wellness and Opportunity Center\, 1876 W Arlington Blvd\, Greenville\, NC\, 27834\, United States
CATEGORIES:Advance Care Planning,Wellness
ATTACH;FMTTYPE=image/jpeg:https://www.ecuhealth.org/wp-content/uploads/2026/01/616803728_1321911229953151_1103888333159898133_n.jpg
ORGANIZER;CN="ECU Health Advance Care Planning":MAILTO:AdvanceCare@ecuhealth.org
GEO:35.5988341;-77.4063568
X-APPLE-STRUCTURED-LOCATION;VALUE=URI;X-ADDRESS=AmeriHealth Caritas Wellness and Opportunity Center 1876 W Arlington Blvd Greenville NC 27834 United States;X-APPLE-RADIUS=500;X-TITLE=1876 W Arlington Blvd:geo:-77.4063568,35.5988341
END:VEVENT
BEGIN:VEVENT
DTSTART;TZID=America/New_York:20260513T080000
DTEND;TZID=America/New_York:20260513T093000
DTSTAMP:20260421T051707
CREATED:20260406T130209Z
LAST-MODIFIED:20260406T130209Z
UID:10010561-1778659200-1778664600@www.ecuhealth.org
SUMMARY:Dining with the Doc
DESCRIPTION:[vc_row][vc_column width=”1/2″][vc_column_text]Enjoy a delicious\, whole food\, plant-based meal accompanied by recipes\, tips and lecture notes to help you on your journey to a healthier you! Led by our culinary faculty of professionally trained Chefs\, Physicians and Dietitians\, this free cooking demonstration is open to the community at no cost. Registration required.[/vc_column_text][/vc_column][vc_column width=”1/2″][vc_single_image image=”47504″ img_size=”full”][/vc_column][/vc_row]
URL:https://www.ecuhealth.org/event/dining-with-the-doc-3/2026-05-13/
LOCATION:ECU Health Lifestyle Medicine Clinic – Greenville\, 2610 Stantonsburg Rd.\, Greenville\, NC\, 27835\, United States
CATEGORIES:Lifestyle Medicine,Wellness
ATTACH;FMTTYPE=image/jpeg:https://www.ecuhealth.org/wp-content/uploads/2026/03/Dr.-H.jpg
GEO:35.6075542;-77.4180204
X-APPLE-STRUCTURED-LOCATION;VALUE=URI;X-ADDRESS=ECU Health Lifestyle Medicine Clinic – Greenville 2610 Stantonsburg Rd. Greenville NC 27835 United States;X-APPLE-RADIUS=500;X-TITLE=2610 Stantonsburg Rd.:geo:-77.4180204,35.6075542
END:VEVENT
BEGIN:VEVENT
DTSTART;TZID=America/New_York:20260513T130000
DTEND;TZID=America/New_York:20260513T150000
DTSTAMP:20260421T051707
CREATED:20260119T145741Z
LAST-MODIFIED:20260119T145741Z
UID:10010316-1778677200-1778684400@www.ecuhealth.org
SUMMARY:Taking Control of Tomorrow: Advance Care Planning
DESCRIPTION:[vc_row][vc_column][vc_single_image image=”46669″ img_size=”full”][vc_column_text]Do you know who would make medical decisions for you if you do not have a Health Care Power of Attorney Advance Directive? Are your decision makers aware of any health outcomes that are unacceptable to you and are they prepared to represent you? \nJoin us for a FREE session to learn the who\, what\, when\, where\, how\, and most importantly\, the WHY of advance care planning. At ECU Health\, we want to provide care that matches the medical treatment(s) that you choose. We also want the person that guides decisions about your care to make the decisions that you would make. \nLearn more about how to be sure that your voice is heard even when you can’t speak for yourself by completing a legal Health Care Power of Attorney and Living Will Advance Directive. \nTrained staff will be available to answer questions you may have and to assist you with completion of these documents with FREE notary support. Photo ID is required for completion of documents. \nIf you have already completed your Advance Directives and would like to have them scanned into your ECU Health electronic health record\, please feel free to bring your documents to this class for assistance.[/vc_column_text][/vc_column][/vc_row]
URL:https://www.ecuhealth.org/event/taking-control-of-tomorrow-advance-care-planning-2/2026-05-13/
LOCATION:Edgecome County Memorial Library\, 909 N Main Street\, Tarboro\, NC\, 27886\, United States
CATEGORIES:Advance Care Planning,Wellness
ATTACH;FMTTYPE=image/jpeg:https://www.ecuhealth.org/wp-content/uploads/2026/01/ACP-PIcture-2026-1.jpg
ORGANIZER;CN="ECU Health Advance Care Planning":MAILTO:AdvanceCare@ecuhealth.org
GEO:35.9021014;-77.5371315
X-APPLE-STRUCTURED-LOCATION;VALUE=URI;X-ADDRESS=Edgecome County Memorial Library 909 N Main Street Tarboro NC 27886 United States;X-APPLE-RADIUS=500;X-TITLE=909 N Main Street:geo:-77.5371315,35.9021014
END:VEVENT
END:VCALENDAR