BEGIN:VCALENDAR
VERSION:2.0
PRODID:-//ECU Health - ECPv6.15.20//NONSGML v1.0//EN
CALSCALE:GREGORIAN
METHOD:PUBLISH
X-WR-CALNAME:ECU Health
X-ORIGINAL-URL:https://www.ecuhealth.org
X-WR-CALDESC:Events for ECU Health
REFRESH-INTERVAL;VALUE=DURATION:PT1H
X-Robots-Tag:noindex
X-PUBLISHED-TTL:PT1H
BEGIN:VTIMEZONE
TZID:America/New_York
BEGIN:DAYLIGHT
TZOFFSETFROM:-0500
TZOFFSETTO:-0400
TZNAME:EDT
DTSTART:20250309T070000
END:DAYLIGHT
BEGIN:STANDARD
TZOFFSETFROM:-0400
TZOFFSETTO:-0500
TZNAME:EST
DTSTART:20251102T060000
END:STANDARD
BEGIN:DAYLIGHT
TZOFFSETFROM:-0500
TZOFFSETTO:-0400
TZNAME:EDT
DTSTART:20260308T070000
END:DAYLIGHT
BEGIN:STANDARD
TZOFFSETFROM:-0400
TZOFFSETTO:-0500
TZNAME:EST
DTSTART:20261101T060000
END:STANDARD
BEGIN:DAYLIGHT
TZOFFSETFROM:-0500
TZOFFSETTO:-0400
TZNAME:EDT
DTSTART:20270314T070000
END:DAYLIGHT
BEGIN:STANDARD
TZOFFSETFROM:-0400
TZOFFSETTO:-0500
TZNAME:EST
DTSTART:20271107T060000
END:STANDARD
END:VTIMEZONE
BEGIN:VEVENT
DTSTART;TZID=America/New_York:20260424T100000
DTEND;TZID=America/New_York:20260424T120000
DTSTAMP:20260424T022755
CREATED:20260331T125052Z
LAST-MODIFIED:20260331T190336Z
UID:10010567-1777024800-1777032000@www.ecuhealth.org
SUMMARY:Healthy Environments Arbor Day Celebration
DESCRIPTION:[vc_row][vc_column width=”1/2″][vc_column_text css=””] \nOpportunities include:\n\nTour newly planted trees and installed bird houses\nParticipate in a planting activity\nBrowse booths with information on organization’s waste reduction\, sustainability and recycling efforts.\nWalk away with ECU Health environmentally friendly swag\nTour the Wellness Center\, learn about current promotion\, receive a chair massage\nSee short cooking demonstrations and hear from physician experts (registration required – link below)\n\n[/vc_column_text][/vc_column][vc_column width=”1/2″][vc_single_image image=”47539″ img_size=”full” css=””][/vc_column][/vc_row]
URL:https://www.ecuhealth.org/event/healthy-environments-arbor-day-celebration/
LOCATION:ECU Health Wellness Center – Greenville\, 2610 Stantonsburg Rd.\, Greenville\, NC\, 27834\, United States
CATEGORIES:Well-being,Wellness
ATTACH;FMTTYPE=image/jpeg:https://www.ecuhealth.org/wp-content/uploads/2026/03/GettyImages-1329657239.jpg
GEO:35.6075542;-77.4180204
X-APPLE-STRUCTURED-LOCATION;VALUE=URI;X-ADDRESS=ECU Health Wellness Center – Greenville 2610 Stantonsburg Rd. Greenville NC 27834 United States;X-APPLE-RADIUS=500;X-TITLE=2610 Stantonsburg Rd.:geo:-77.4180204,35.6075542
END:VEVENT
BEGIN:VEVENT
DTSTART;TZID=America/New_York:20260429T130000
DTEND;TZID=America/New_York:20260429T150000
DTSTAMP:20260424T022755
CREATED:20260126T152413Z
LAST-MODIFIED:20260126T152413Z
UID:10010383-1777467600-1777474800@www.ecuhealth.org
SUMMARY:Taking Control of Tomorrow:  Advance Care Planning
DESCRIPTION:[vc_row][vc_column width=”1/2″][vc_column_text]Do you know who would make medical decisions for you if you do not have a Health Care Power of Attorney Advance Directive? Are your decision makers aware of any health outcomes that are unacceptable to you and are they prepared to represent you? \nJoin us for a FREE session to learn the who\, what\, when\, where\, how\, and most importantly\, the WHY of advance care planning. At ECU Health\, we want to provide care that matches the medical treatment(s) that you choose. We also want the person that guides decisions about your care to make the decisions that you would make. \nLearn more about how to be sure that your voice is heard even when you can’t speak for yourself by completing a legal Health Care Power of Attorney and Living Will Advance Directive. \nTrained staff will be available to answer questions you may have and to assist you with completion of these documents with FREE notary support. \nPhoto ID is required for completion of documents. \nIf you have already completed your Advance Directives and would like to have them scanned into your ECU Health electronic health record\, please feel free to bring your documents during the second hour of this class for assistance.[/vc_column_text][/vc_column][vc_column width=”1/2″][vc_single_image image=”46669″ img_size=”full” css=””][/vc_column][/vc_row]
URL:https://www.ecuhealth.org/event/taking-control-of-tomorrow-advance-care-planning-4/2026-04-29/
LOCATION:Pitt Council on Aging\, 4551 County Home Road\, Greenville\, NC\, 27858\, United States
CATEGORIES:Advance Care Planning,Wellness
ATTACH;FMTTYPE=image/jpeg:https://www.ecuhealth.org/wp-content/uploads/2026/01/616803728_1321911229953151_1103888333159898133_n.jpg
ORGANIZER;CN="ECU Health Advance Care Planning":MAILTO:AdvanceCare@ecuhealth.org
GEO:35.5501802;-77.349267
X-APPLE-STRUCTURED-LOCATION;VALUE=URI;X-ADDRESS=Pitt Council on Aging 4551 County Home Road Greenville NC 27858 United States;X-APPLE-RADIUS=500;X-TITLE=4551 County Home Road:geo:-77.349267,35.5501802
END:VEVENT
END:VCALENDAR