BEGIN:VCALENDAR
VERSION:2.0
PRODID:-//ECU Health - ECPv6.15.20//NONSGML v1.0//EN
CALSCALE:GREGORIAN
METHOD:PUBLISH
X-WR-CALNAME:ECU Health
X-ORIGINAL-URL:https://www.ecuhealth.org
X-WR-CALDESC:Events for ECU Health
REFRESH-INTERVAL;VALUE=DURATION:PT1H
X-Robots-Tag:noindex
X-PUBLISHED-TTL:PT1H
BEGIN:VTIMEZONE
TZID:America/New_York
BEGIN:DAYLIGHT
TZOFFSETFROM:-0500
TZOFFSETTO:-0400
TZNAME:EDT
DTSTART:20240310T070000
END:DAYLIGHT
BEGIN:STANDARD
TZOFFSETFROM:-0400
TZOFFSETTO:-0500
TZNAME:EST
DTSTART:20241103T060000
END:STANDARD
BEGIN:DAYLIGHT
TZOFFSETFROM:-0500
TZOFFSETTO:-0400
TZNAME:EDT
DTSTART:20250309T070000
END:DAYLIGHT
BEGIN:STANDARD
TZOFFSETFROM:-0400
TZOFFSETTO:-0500
TZNAME:EST
DTSTART:20251102T060000
END:STANDARD
BEGIN:DAYLIGHT
TZOFFSETFROM:-0500
TZOFFSETTO:-0400
TZNAME:EDT
DTSTART:20260308T070000
END:DAYLIGHT
BEGIN:STANDARD
TZOFFSETFROM:-0400
TZOFFSETTO:-0500
TZNAME:EST
DTSTART:20261101T060000
END:STANDARD
END:VTIMEZONE
BEGIN:VEVENT
DTSTART;TZID=America/New_York:20251020T173000
DTEND;TZID=America/New_York:20251020T193000
DTSTAMP:20260424T070434
CREATED:20241209T204237Z
LAST-MODIFIED:20241209T204753Z
UID:10009405-1760981400-1760988600@www.ecuhealth.org
SUMMARY:ECU Health Medical Center- Nursing Mom’s Network Support Group
DESCRIPTION:[vc_row][vc_column width=”1/2″][vc_column_text css=””] \nA supportive space for expectant and postpartum families to ask questions\, share tips and receive guidance on breastfeeding and pumping. Registration not required. \nFor more information visit ECUHealth.org/Womens \n[/vc_column_text][/vc_column][vc_column width=”1/2″][vc_single_image image=”3720″ img_size=”full” css=””][/vc_column][/vc_row]
URL:https://www.ecuhealth.org/event/mom/2025-10-20/
LOCATION:Carolina Pregnancy Center\, 209 East Arlington Blvd\, Greenville\, NC\, 27858\, United States
CATEGORIES:Women's Services
ATTACH;FMTTYPE=image/jpeg:https://www.ecuhealth.org/wp-content/uploads/2020/10/Womens_Pregnancy_OnlinePrenatal.jpg
GEO:35.5889362;-77.3742817
X-APPLE-STRUCTURED-LOCATION;VALUE=URI;X-ADDRESS=Carolina Pregnancy Center 209 East Arlington Blvd Greenville NC 27858 United States;X-APPLE-RADIUS=500;X-TITLE=209 East Arlington Blvd:geo:-77.3742817,35.5889362
END:VEVENT
BEGIN:VEVENT
DTSTART;TZID=America/New_York:20251020T173000
DTEND;TZID=America/New_York:20251021T190000
DTSTAMP:20260424T070434
CREATED:20240703T172522Z
LAST-MODIFIED:20250811T132617Z
UID:10008571-1760981400-1761073200@www.ecuhealth.org
SUMMARY:Living On After Loss
DESCRIPTION:[vc_row][vc_column][vc_single_image image=”8593″ img_size=”full” css=””][vc_column_text css=””]Losing a loved one is devastating and learning how to continue living can be challenging. Loneliness is just one of the many feelings a grieving person may experience. ECU Health Home Health and Hospice offers a community-based grief program “Living On After Loss.” Facilitators guide participants through an eight-week grief journey\, following the death of a loved one. Anyone over the age of 18 is welcome to attend. There is no charge to participate. Whether it is an expected or unexpected death\, those left on this earth are welcome. \nGrief is different and unique for each person. There is no right or wrong method of grieving. This is a nonfaith-based program and a supportive environment for all attendees. \nRegistration is required.[/vc_column_text][/vc_column][/vc_row]
URL:https://www.ecuhealth.org/event/living-on-after-loss/2025-10-20/
LOCATION:McConnell-Raab Hope Lodge – Conference Room\, 930 Wellness Drive\, Greenville\, NC\, 27834\, United States
CATEGORIES:Home Health and Hospice
ATTACH;FMTTYPE=image/jpeg:https://www.ecuhealth.org/wp-content/uploads/2023/02/Support-Group-2023.jpg
GEO:35.6099789;-77.4157284
X-APPLE-STRUCTURED-LOCATION;VALUE=URI;X-ADDRESS=McConnell-Raab Hope Lodge – Conference Room 930 Wellness Drive Greenville NC 27834 United States;X-APPLE-RADIUS=500;X-TITLE=930 Wellness Drive:geo:-77.4157284,35.6099789
END:VEVENT
BEGIN:VEVENT
DTSTART;TZID=America/New_York:20251021T100000
DTEND;TZID=America/New_York:20251021T113000
DTSTAMP:20260424T070434
CREATED:20240506T143507Z
LAST-MODIFIED:20240506T145440Z
UID:10008274-1761040800-1761046200@www.ecuhealth.org
SUMMARY:Breastfeeding Support Group
DESCRIPTION:[vc_row][vc_column][vc_single_image image=”4863″ img_size=”full” css=””][vc_column_text css=””] \n\n\n\n\n\n\n\nOur Breastfeeding Support Group at ECU Health Chowan Hospital offers an opportunity to connect with other mothers and lactation specialists on various breastfeeding topics. The support group meets on the third Tuesday at 10 a.m. in the ECU Health Chowan Hospital Education Center Classrooms. \nRegistration is required. \n\n\n\n\n\n\n\n[/vc_column_text][/vc_column][/vc_row]
URL:https://www.ecuhealth.org/event/breastfeeding-support-group-2/2025-10-21/
LOCATION:ECU Health Chowan Hospital Education Center Classrooms\, 211 Virginia Road\, Edenton\,\, NC\, 27932\, United States
CATEGORIES:Women's Services
ATTACH;FMTTYPE=image/jpeg:https://www.ecuhealth.org/wp-content/uploads/2021/04/breastfeeding_3_FB.jpg
GEO:36.0699925;-76.6112149
X-APPLE-STRUCTURED-LOCATION;VALUE=URI;X-ADDRESS=ECU Health Chowan Hospital Education Center Classrooms 211 Virginia Road Edenton NC 27932 United States;X-APPLE-RADIUS=500;X-TITLE=211 Virginia Road:geo:-76.6112149,36.0699925
END:VEVENT
BEGIN:VEVENT
DTSTART;TZID=America/New_York:20251023T100000
DTEND;TZID=America/New_York:20251023T123000
DTSTAMP:20260424T070434
CREATED:20250915T200943Z
LAST-MODIFIED:20250915T200943Z
UID:10009845-1761213600-1761222600@www.ecuhealth.org
SUMMARY:Free Adult Wellness Screenings
DESCRIPTION:[vc_row][vc_column width=”1/2″][vc_column_text css=””]Community Health Programs invites you to a free adult wellness screening. Our health professionals will check your body mass index (BMI)\, blood pressure\, glucose\, and cholesterol levels. Knowing these numbers is key to preventing and managing chronic diseases. Join us to take charge of your health and connect with your community. We look forward to seeing you there![/vc_column_text][/vc_column][vc_column width=”1/2″][vc_single_image image=”4469″ img_size=”full” css=””][/vc_column][/vc_row]
URL:https://www.ecuhealth.org/event/free-adult-wellness-screenings-3/
LOCATION:Reruns Consignment\, 114 W. Quinn St.\, Beulaville\, 28518\, United States
CATEGORIES:Community Health,Wellness
ATTACH;FMTTYPE=image/jpeg:https://www.ecuhealth.org/wp-content/uploads/2021/02/screenings-female-adults.jpg
END:VEVENT
BEGIN:VEVENT
DTSTART;TZID=America/New_York:20251023T100000
DTEND;TZID=America/New_York:20251023T140000
DTSTAMP:20260424T070434
CREATED:20250224T132000Z
LAST-MODIFIED:20250224T132000Z
UID:10009583-1761213600-1761228000@www.ecuhealth.org
SUMMARY:Taking Control of Tomorrow: Advance Care Planning - Wilson
DESCRIPTION:[vc_row][vc_column width=”1/2″][vc_column_text]Do you know who would make medical decisions for you if you do not have a Health Care Power of Attorney Advance Directive? Are your decision makers aware of any health outcomes that are unacceptable to you and are they prepared to represent you? \nJoin us for a FREE session to learn the who\, what\, when\, where\, how\, and most importantly\, the WHY of advance care planning. At ECU Health\, we want to provide care that matches the medical treatment(s) that you choose. We also want the person that guides decisions about your care to make the decisions that you would make. \nLearn more about how to be sure that your voice is heard even when you can’t speak for yourself by completing a legal Health Care Power of Attorney and Living Will Advance Directive. \nTrained staff will be available to answer questions you may have and to assist you with completion of these documents with FREE notary support. Photo ID is required for completion of documents. \nIf you have already completed your Advance Directives and would like to have them scanned into your ECU Health electronic health record\, please feel free to bring your documents to this class for assistance.[/vc_column_text][/vc_column][vc_column width=”1/2″][vc_single_image image=”3691″ img_size=”full” css=””][/vc_column][/vc_row]
URL:https://www.ecuhealth.org/event/taking-control-of-tomorrow-advance-care-planning-wilson/2025-10-23/
LOCATION:ECU Health Healthplex – Wilson\, 3724 Raleigh Rd. Parkway West\, Wilson\, NC\, 27896\, United States
CATEGORIES:Advance Care Planning
ATTACH;FMTTYPE=image/jpeg:https://www.ecuhealth.org/wp-content/uploads/2020/12/PatientFamilies_PatientAdvocates_Advisor.jpg
ORGANIZER;CN="ECU Health Advance Care Planning":MAILTO:AdvanceCare@ecuhealth.org
GEO:35.7493094;-77.9674852
X-APPLE-STRUCTURED-LOCATION;VALUE=URI;X-ADDRESS=ECU Health Healthplex – Wilson 3724 Raleigh Rd. Parkway West Wilson NC 27896 United States;X-APPLE-RADIUS=500;X-TITLE=3724 Raleigh Rd. Parkway West:geo:-77.9674852,35.7493094
END:VEVENT
END:VCALENDAR