BEGIN:VCALENDAR
VERSION:2.0
PRODID:-//ECU Health - ECPv6.15.20//NONSGML v1.0//EN
CALSCALE:GREGORIAN
METHOD:PUBLISH
X-WR-CALNAME:ECU Health
X-ORIGINAL-URL:https://www.ecuhealth.org
X-WR-CALDESC:Events for ECU Health
REFRESH-INTERVAL;VALUE=DURATION:PT1H
X-Robots-Tag:noindex
X-PUBLISHED-TTL:PT1H
BEGIN:VTIMEZONE
TZID:America/New_York
BEGIN:DAYLIGHT
TZOFFSETFROM:-0500
TZOFFSETTO:-0400
TZNAME:EDT
DTSTART:20240310T070000
END:DAYLIGHT
BEGIN:STANDARD
TZOFFSETFROM:-0400
TZOFFSETTO:-0500
TZNAME:EST
DTSTART:20241103T060000
END:STANDARD
BEGIN:DAYLIGHT
TZOFFSETFROM:-0500
TZOFFSETTO:-0400
TZNAME:EDT
DTSTART:20250309T070000
END:DAYLIGHT
BEGIN:STANDARD
TZOFFSETFROM:-0400
TZOFFSETTO:-0500
TZNAME:EST
DTSTART:20251102T060000
END:STANDARD
BEGIN:DAYLIGHT
TZOFFSETFROM:-0500
TZOFFSETTO:-0400
TZNAME:EDT
DTSTART:20260308T070000
END:DAYLIGHT
BEGIN:STANDARD
TZOFFSETFROM:-0400
TZOFFSETTO:-0500
TZNAME:EST
DTSTART:20261101T060000
END:STANDARD
END:VTIMEZONE
BEGIN:VEVENT
DTSTART;TZID=America/New_York:20251027T173000
DTEND;TZID=America/New_York:20251028T190000
DTSTAMP:20260424T070410
CREATED:20240703T172522Z
LAST-MODIFIED:20250811T132617Z
UID:10008572-1761586200-1761678000@www.ecuhealth.org
SUMMARY:Living On After Loss
DESCRIPTION:[vc_row][vc_column][vc_single_image image=”8593″ img_size=”full” css=””][vc_column_text css=””]Losing a loved one is devastating and learning how to continue living can be challenging. Loneliness is just one of the many feelings a grieving person may experience. ECU Health Home Health and Hospice offers a community-based grief program “Living On After Loss.” Facilitators guide participants through an eight-week grief journey\, following the death of a loved one. Anyone over the age of 18 is welcome to attend. There is no charge to participate. Whether it is an expected or unexpected death\, those left on this earth are welcome. \nGrief is different and unique for each person. There is no right or wrong method of grieving. This is a nonfaith-based program and a supportive environment for all attendees. \nRegistration is required.[/vc_column_text][/vc_column][/vc_row]
URL:https://www.ecuhealth.org/event/living-on-after-loss/2025-10-27/
LOCATION:McConnell-Raab Hope Lodge – Conference Room\, 930 Wellness Drive\, Greenville\, NC\, 27834\, United States
CATEGORIES:Home Health and Hospice
ATTACH;FMTTYPE=image/jpeg:https://www.ecuhealth.org/wp-content/uploads/2023/02/Support-Group-2023.jpg
GEO:35.6099789;-77.4157284
X-APPLE-STRUCTURED-LOCATION;VALUE=URI;X-ADDRESS=McConnell-Raab Hope Lodge – Conference Room 930 Wellness Drive Greenville NC 27834 United States;X-APPLE-RADIUS=500;X-TITLE=930 Wellness Drive:geo:-77.4157284,35.6099789
END:VEVENT
BEGIN:VEVENT
DTSTART;TZID=America/New_York:20251028T130000
DTEND;TZID=America/New_York:20251028T160000
DTSTAMP:20260424T070410
CREATED:20250519T140701Z
LAST-MODIFIED:20250519T140701Z
UID:10009708-1761656400-1761667200@www.ecuhealth.org
SUMMARY:Free Breast Clinic
DESCRIPTION:[vc_row][vc_column width=”1/2″][vc_column_text]ECU Health Cancer Care invites eligible Pitt County residents without health insurance to receive free breast cancer screenings at the Eddie and Jo Allison Smith Tower in Greenville. Free breast cancer screenings are for women 40 years of age and older with at least one year since their last mammogram. Screening includes a clinical breast exam and a 3D mammogram. Free screening eligibility is confirmed during phone registration\, including residency\, age\, income\, and insurance requirements.[/vc_column_text][/vc_column][vc_column width=”1/2″][vc_single_image image=”5646″ img_size=”full” css=””][/vc_column][/vc_row]
URL:https://www.ecuhealth.org/event/free-breast-clinic/2025-10-28/
LOCATION:ECU Health Cancer Center\, 524 Moye Blvd\, Greenville\, NC\, 27858\, United States
CATEGORIES:Women's Services
ATTACH;FMTTYPE=image/jpeg:https://www.ecuhealth.org/wp-content/uploads/2021/06/cancer_Screenings_2_FB.jpg
GEO:35.6080421;-77.3993555
X-APPLE-STRUCTURED-LOCATION;VALUE=URI;X-ADDRESS=ECU Health Cancer Center 524 Moye Blvd Greenville NC 27858 United States;X-APPLE-RADIUS=500;X-TITLE=524 Moye Blvd:geo:-77.3993555,35.6080421
END:VEVENT
BEGIN:VEVENT
DTSTART;TZID=America/New_York:20251101T090000
DTEND;TZID=America/New_York:20251101T150000
DTSTAMP:20260424T070410
CREATED:20250721T183218Z
LAST-MODIFIED:20251015T145806Z
UID:10009755-1761987600-1762009200@www.ecuhealth.org
SUMMARY:ECU Health Beaufort – In-Person Childbirth Class
DESCRIPTION:[vc_row][vc_column width=”1/2″][vc_column_text]Taught by our very own ECU Health Beaufort nurse\, our childbirth class offers instruction on the labor and delivery process. Topics discussed: \nBefore you Give Birth – Includes making arrangements\, taking care of yourself\, learning how to manage pain. \nWhat Happens During Childbirth – Includes understanding labor\, medical interventions\, types of births. \nAfter you Give Birth – Includes caring for your newborn\, postpartum changes and self-care. \nTour of our Labor and Delivery Unit\nTake part in our Childbirth class close to your due date 28 to 35 weeks of pregnancy to keep the information fresh in your mind. The cost is $25 per couple.[/vc_column_text][/vc_column][vc_column width=”1/2″][vc_single_image image=”4876″ img_size=”full” css=””][/vc_column][/vc_row]
URL:https://www.ecuhealth.org/event/ecu-health-beaufort-in-person-childbirth-class/2025-11-01/
LOCATION:ECU Health Beaufort\, 628 E 12th St\, Washington\, NC\, 27889\, United States
CATEGORIES:Women's Services
ATTACH;FMTTYPE=image/jpeg:https://www.ecuhealth.org/wp-content/uploads/2021/04/childbirth_2_FB.jpg
END:VEVENT
END:VCALENDAR