BEGIN:VCALENDAR
VERSION:2.0
PRODID:-//ECU Health - ECPv6.15.20//NONSGML v1.0//EN
CALSCALE:GREGORIAN
METHOD:PUBLISH
X-WR-CALNAME:ECU Health
X-ORIGINAL-URL:https://www.ecuhealth.org
X-WR-CALDESC:Events for ECU Health
REFRESH-INTERVAL;VALUE=DURATION:PT1H
X-Robots-Tag:noindex
X-PUBLISHED-TTL:PT1H
BEGIN:VTIMEZONE
TZID:America/New_York
BEGIN:DAYLIGHT
TZOFFSETFROM:-0500
TZOFFSETTO:-0400
TZNAME:EDT
DTSTART:20240310T070000
END:DAYLIGHT
BEGIN:STANDARD
TZOFFSETFROM:-0400
TZOFFSETTO:-0500
TZNAME:EST
DTSTART:20241103T060000
END:STANDARD
BEGIN:DAYLIGHT
TZOFFSETFROM:-0500
TZOFFSETTO:-0400
TZNAME:EDT
DTSTART:20250309T070000
END:DAYLIGHT
BEGIN:STANDARD
TZOFFSETFROM:-0400
TZOFFSETTO:-0500
TZNAME:EST
DTSTART:20251102T060000
END:STANDARD
BEGIN:DAYLIGHT
TZOFFSETFROM:-0500
TZOFFSETTO:-0400
TZNAME:EDT
DTSTART:20260308T070000
END:DAYLIGHT
BEGIN:STANDARD
TZOFFSETFROM:-0400
TZOFFSETTO:-0500
TZNAME:EST
DTSTART:20261101T060000
END:STANDARD
END:VTIMEZONE
BEGIN:VEVENT
DTSTART;TZID=America/New_York:20251103T173000
DTEND;TZID=America/New_York:20251103T200000
DTSTAMP:20260425T102828
CREATED:20251027T161303Z
LAST-MODIFIED:20251027T161303Z
UID:10009889-1762191000-1762200000@www.ecuhealth.org
SUMMARY:ECU Health Medical Center — Greenville NC Newborn Baby Care Basic Class
DESCRIPTION:[vc_row][vc_column width=”1/2″][vc_column_text]Join us for our Newborn Baby Care Basic Class. This in-person group session covers basic newborn care\, feeding\, growth and parenting. The cost is $20 per couple.[/vc_column_text][/vc_column][vc_column width=”1/2″][vc_single_image image=”3721″ img_size=”full”][/vc_column][/vc_row]
URL:https://www.ecuhealth.org/event/ecu-health-medical-center-greenville-nc-newborn-baby-care-basic-class-4/2025-11-03/
LOCATION:Maynard Children’s Hospital\, 2100 Stantonsburg Rd.\, Greenville\, NC\, 27834\, United States
CATEGORIES:Women's Services
ATTACH;FMTTYPE=image/jpeg:https://www.ecuhealth.org/wp-content/uploads/2020/10/Womens_Pregnancy_Photography.jpg
GEO:35.6080731;-77.4017984
X-APPLE-STRUCTURED-LOCATION;VALUE=URI;X-ADDRESS=Maynard Children’s Hospital 2100 Stantonsburg Rd. Greenville NC 27834 United States;X-APPLE-RADIUS=500;X-TITLE=2100 Stantonsburg Rd.:geo:-77.4017984,35.6080731
END:VEVENT
BEGIN:VEVENT
DTSTART;TZID=America/New_York:20251103T173000
DTEND;TZID=America/New_York:20251104T190000
DTSTAMP:20260425T102828
CREATED:20240703T172522Z
LAST-MODIFIED:20250811T132617Z
UID:10008573-1762191000-1762282800@www.ecuhealth.org
SUMMARY:Living On After Loss
DESCRIPTION:[vc_row][vc_column][vc_single_image image=”8593″ img_size=”full” css=””][vc_column_text css=””]Losing a loved one is devastating and learning how to continue living can be challenging. Loneliness is just one of the many feelings a grieving person may experience. ECU Health Home Health and Hospice offers a community-based grief program “Living On After Loss.” Facilitators guide participants through an eight-week grief journey\, following the death of a loved one. Anyone over the age of 18 is welcome to attend. There is no charge to participate. Whether it is an expected or unexpected death\, those left on this earth are welcome. \nGrief is different and unique for each person. There is no right or wrong method of grieving. This is a nonfaith-based program and a supportive environment for all attendees. \nRegistration is required.[/vc_column_text][/vc_column][/vc_row]
URL:https://www.ecuhealth.org/event/living-on-after-loss/2025-11-03/
LOCATION:McConnell-Raab Hope Lodge – Conference Room\, 930 Wellness Drive\, Greenville\, NC\, 27834\, United States
CATEGORIES:Home Health and Hospice
ATTACH;FMTTYPE=image/jpeg:https://www.ecuhealth.org/wp-content/uploads/2023/02/Support-Group-2023.jpg
GEO:35.6099789;-77.4157284
X-APPLE-STRUCTURED-LOCATION;VALUE=URI;X-ADDRESS=McConnell-Raab Hope Lodge – Conference Room 930 Wellness Drive Greenville NC 27834 United States;X-APPLE-RADIUS=500;X-TITLE=930 Wellness Drive:geo:-77.4157284,35.6099789
END:VEVENT
BEGIN:VEVENT
DTSTART;TZID=America/New_York:20251104T100000
DTEND;TZID=America/New_York:20251104T130000
DTSTAMP:20260425T102828
CREATED:20251027T161628Z
LAST-MODIFIED:20251103T175648Z
UID:10009958-1762250400-1762261200@www.ecuhealth.org
SUMMARY:Health and Hope
DESCRIPTION:[vc_row][vc_column width=”1/2″][vc_column_text css=””]Join ECU Health for Health and Hope: Martin County Community Health Pop-up. We’re bringing free health screenings\, education on health resources\, and fresh produce to local communities. Learn how to support rural health\, stay informed about your health options\, and access nutritious foods for your family.[/vc_column_text][/vc_column][vc_column width=”1/2″][vc_single_image image=”37697″ img_size=”full”][/vc_column][/vc_row]
URL:https://www.ecuhealth.org/event/health-and-hope/
LOCATION:Robersonville Public Library\, 119 S Main St\, Robersonville\, NC\, 27871\, United States
CATEGORIES:Community Health
ATTACH;FMTTYPE=image/jpeg:https://www.ecuhealth.org/wp-content/uploads/2024/06/Community-Health-Event-1.jpg
END:VEVENT
BEGIN:VEVENT
DTSTART;TZID=America/New_York:20251104T103000
DTEND;TZID=America/New_York:20251104T113000
DTSTAMP:20260425T102828
CREATED:20241223T164421Z
LAST-MODIFIED:20250212T152645Z
UID:10009484-1762252200-1762255800@www.ecuhealth.org
SUMMARY:Taking Control of your Future: Advance Care Planning Education-Perquimans
DESCRIPTION:[vc_row][vc_column width=”1/2″][vc_column_text css=””]Join us for a FREE session to learn the who\, what\, when\, where\, how\, and most importantly\, the WHY of advance care planning\, including your Health Care Power of Attorney and Living Will documents. Trained staff will be available to answer questions and to assist you with completion of your health care Advance Directives with FREE notary support. \nPhoto ID is required for completion of documents.[/vc_column_text][/vc_column][vc_column width=”1/2″][vc_single_image image=”41451″ img_size=”full” css=””][/vc_column][/vc_row]
URL:https://www.ecuhealth.org/event/taking-control-of-your-future-advance-care-planning-education-perquimans/2025-11-04/
LOCATION:Perquimans County Center for Active Living\, Harvey Point Road\, Hertford\, North Carolina\, 27944\, United States
CATEGORIES:Advance Care Planning,Wellness
ATTACH;FMTTYPE=image/jpeg:https://www.ecuhealth.org/wp-content/uploads/2024/12/467616694_1178783717581152_209293701217764533_n.jpg
ORGANIZER;CN="ECU Health Advance Care Planning":MAILTO:AdvanceCare@ecuhealth.org
GEO:36.1722207;-76.4571348
X-APPLE-STRUCTURED-LOCATION;VALUE=URI;X-ADDRESS=Perquimans County Center for Active Living Harvey Point Road Hertford North Carolina 27944 United States;X-APPLE-RADIUS=500;X-TITLE=Harvey Point Road:geo:-76.4571348,36.1722207
END:VEVENT
BEGIN:VEVENT
DTSTART;TZID=America/New_York:20251104T103000
DTEND;TZID=America/New_York:20251104T113000
DTSTAMP:20260425T102828
CREATED:20241223T164749Z
LAST-MODIFIED:20241223T164749Z
UID:10009521-1762252200-1762255800@www.ecuhealth.org
SUMMARY:Taking Control of Tomorow: Advance Care Planning Education-Perquimans
DESCRIPTION:[vc_row][vc_column width=”1/2″][vc_column_text]Join us for a FREE session to learn the who\, what\, when\, where\, how\, and most importantly\, the WHY of advance care planning\, including your Health Care Power of Attorney and Living Will documents.\nTrained staff will be available to answer questions and to assist you with completion of your health care Advance Directives with FREE notary support. \nPhoto ID is required for completion of documents.[/vc_column_text][/vc_column][vc_column width=”1/2″][vc_single_image image=”41450″ img_size=”full” css=””][/vc_column][/vc_row]
URL:https://www.ecuhealth.org/event/advance-care/2025-11-04/
LOCATION:Perquimans County Center for Active Living\, Harvey Point Road\, Hertford\, North Carolina\, 27944\, United States
CATEGORIES:Advance Care Planning,Wellness
ATTACH;FMTTYPE=image/jpeg:https://www.ecuhealth.org/wp-content/uploads/2024/12/465726934_1167895595336631_8387550205515313961_n.jpg
ORGANIZER;CN="ECU Health Advance Care Planning":MAILTO:AdvanceCare@ecuhealth.org
GEO:36.1722207;-76.4571348
X-APPLE-STRUCTURED-LOCATION;VALUE=URI;X-ADDRESS=Perquimans County Center for Active Living Harvey Point Road Hertford North Carolina 27944 United States;X-APPLE-RADIUS=500;X-TITLE=Harvey Point Road:geo:-76.4571348,36.1722207
END:VEVENT
BEGIN:VEVENT
DTSTART;TZID=America/New_York:20251104T110000
DTEND;TZID=America/New_York:20251104T120000
DTSTAMP:20260425T102828
CREATED:20241223T165330Z
LAST-MODIFIED:20250212T153236Z
UID:10009464-1762254000-1762257600@www.ecuhealth.org
SUMMARY:Taking Control of Tomorrow: Advance Care Planning- Edenton
DESCRIPTION:[vc_row][vc_column width=”1/2″][vc_column_text]Join us for a FREE session to learn the who\, what\, when\, where\, how\, and most importantly\, the WHY of advance care planning\, including your Health Care Power of Attorney and Living Will documents.\nTrained staff will be available to answer questions and to assist you with completion of your health care Advance Directives with FREE notary support. \nPhoto ID is required for completion of documents.[/vc_column_text][/vc_column][vc_column width=”1/2″][vc_single_image image=”41451″ img_size=”full” css=””][/vc_column][/vc_row]
URL:https://www.ecuhealth.org/event/taking-control-of-tomorrow-advance-care-planning-edenton/2025-11-04/
LOCATION:Chowan Senior Center- 204 E. Church Street\, Edenton\, NC 27932\, East Church Street\, Edenton\, North Carolina\, 27932\, United States
CATEGORIES:Advance Care Planning,Wellness
ATTACH;FMTTYPE=image/jpeg:https://www.ecuhealth.org/wp-content/uploads/2024/12/465726934_1167895595336631_8387550205515313961_n.jpg
ORGANIZER;CN="ECU Health Advance Care Planning":MAILTO:AdvanceCare@ecuhealth.org
GEO:36.0599604;-76.6061296
X-APPLE-STRUCTURED-LOCATION;VALUE=URI;X-ADDRESS=Chowan Senior Center- 204 E. Church Street Edenton NC 27932 East Church Street Edenton North Carolina 27932 United States;X-APPLE-RADIUS=500;X-TITLE=East Church Street:geo:-76.6061296,36.0599604
END:VEVENT
BEGIN:VEVENT
DTSTART;TZID=America/New_York:20251104T163000
DTEND;TZID=America/New_York:20251104T173000
DTSTAMP:20260425T102828
CREATED:20241223T165523Z
LAST-MODIFIED:20250212T152937Z
UID:10009456-1762273800-1762277400@www.ecuhealth.org
SUMMARY:Taking Control of Tomorrow: Advance Care Planning Education- Ahoskie
DESCRIPTION:[vc_row][vc_column width=”1/2″][vc_column_text css=””]Join us for a FREE session to learn the who\, what\, when\, where\, how\, and most importantly\, the WHY of advance care planning\, including your Health Care Power of Attorney and Living Will documents. \nTrained staff will be available to answer questions and to assist you with completion of your health care Advance Directives with FREE notary support. \nPhoto ID is required for completion of documents.[/vc_column_text][/vc_column][vc_column width=”1/2″][vc_single_image image=”41451″ img_size=”full” css=””][/vc_column][/vc_row]
URL:https://www.ecuhealth.org/event/taking-control-of-tomorrow-advance-care-planning-education-ahoskie/2025-11-04/
LOCATION:ECU Health Wellness Center – Ahoskie\, 117 Hertford County High School Road\, Ahoskie\, 27910\, United States
CATEGORIES:Advance Care Planning,Wellness
ATTACH;FMTTYPE=image/jpeg:https://www.ecuhealth.org/wp-content/uploads/2024/12/467616694_1178783717581152_209293701217764533_n.jpg
ORGANIZER;CN="ECU Health Advance Care Planning":MAILTO:AdvanceCare@ecuhealth.org
GEO:36.2970894;-76.9904976
X-APPLE-STRUCTURED-LOCATION;VALUE=URI;X-ADDRESS=ECU Health Wellness Center – Ahoskie 117 Hertford County High School Road Ahoskie 27910 United States;X-APPLE-RADIUS=500;X-TITLE=117 Hertford County High School Road:geo:-76.9904976,36.2970894
END:VEVENT
BEGIN:VEVENT
DTSTART;TZID=America/New_York:20251104T180000
DTEND;TZID=America/New_York:20251104T193000
DTSTAMP:20260425T102828
CREATED:20240506T144925Z
LAST-MODIFIED:20240506T144925Z
UID:10008322-1762279200-1762284600@www.ecuhealth.org
SUMMARY:Chowan Breastfeeding Class
DESCRIPTION:[vc_row][vc_column][vc_single_image image=”3922″ img_size=”full” css=””][vc_column_text css=””] \n\n\n\n\n\n\n\nOur Breastfeeding Class at ECU Health Chowan Hospital offers basic instruction on how to breastfeed your baby. Knowledge is the key to making this exciting time easier for your family. Your support person is welcomed to this class and it is recommend to take this session before 30 weeks. \nWe discuss the importance of skin-to-skin\, breastfeeding in the first hour of birth\, practices related to breastfeeding in the immediate postpartum period and breastfeeding after returning to work. \nRegistration is required. \n\n\n\n\n\n\n\n[/vc_column_text][/vc_column][/vc_row]
URL:https://www.ecuhealth.org/event/chowan-breastfeeding-class/2025-11-04/
LOCATION:ECU Health Chowan Hospital Education Center Classrooms\, 211 Virginia Road\, Edenton\,\, NC\, 27932\, United States
CATEGORIES:Women's Services
ATTACH;FMTTYPE=image/jpeg:https://www.ecuhealth.org/wp-content/uploads/2020/12/Events_VMC_Virtual_BreastFeed_Featured_IMG-1.jpg
GEO:36.0699925;-76.6112149
X-APPLE-STRUCTURED-LOCATION;VALUE=URI;X-ADDRESS=ECU Health Chowan Hospital Education Center Classrooms 211 Virginia Road Edenton NC 27932 United States;X-APPLE-RADIUS=500;X-TITLE=211 Virginia Road:geo:-76.6112149,36.0699925
END:VEVENT
BEGIN:VEVENT
DTSTART;TZID=America/New_York:20251106T100000
DTEND;TZID=America/New_York:20251106T110000
DTSTAMP:20260425T102828
CREATED:20241223T164953Z
LAST-MODIFIED:20250212T153056Z
UID:10009480-1762423200-1762426800@www.ecuhealth.org
SUMMARY:Taking Control of Tomorrow: Advance care Planning Education- Manteo
DESCRIPTION:[vc_row][vc_column width=”1/2″][vc_column_text]Join us for a FREE session to learn the who\, what\, when\, where\, how\, and most importantly\, the WHY of advance care planning\, including your Health Care Power of Attorney and Living Will documents.\nTrained staff will be available to answer questions and to assist you with completion of your health care Advance Directives with FREE notary support. \nPhoto ID is required for completion of documents.[/vc_column_text][/vc_column][vc_column width=”1/2″][vc_single_image image=”41451″ img_size=”full” css=””][/vc_column][/vc_row]
URL:https://www.ecuhealth.org/event/taking-control-of-tomorrow-advance-care-planning-education-manteo/2025-11-06/
LOCATION:Virginia Tillett Community Center\, 950 Marshall C. Collins Drive\, Manteo\, North Carolina\, 27954
CATEGORIES:Advance Care Planning,Wellness
ATTACH;FMTTYPE=image/jpeg:https://www.ecuhealth.org/wp-content/uploads/2024/12/467616694_1178783717581152_209293701217764533_n.jpg
ORGANIZER;CN="ECU Health Advance Care Planning":MAILTO:AdvanceCare@ecuhealth.org
GEO:35.8907369;-75.6629939
X-APPLE-STRUCTURED-LOCATION;VALUE=URI;X-ADDRESS=Virginia Tillett Community Center 950 Marshall C. Collins Drive Manteo North Carolina 27954;X-APPLE-RADIUS=500;X-TITLE=950 Marshall C. Collins Drive:geo:-75.6629939,35.8907369
END:VEVENT
BEGIN:VEVENT
DTSTART;TZID=America/New_York:20251106T110000
DTEND;TZID=America/New_York:20251106T130000
DTSTAMP:20260425T102828
CREATED:20251027T161953Z
LAST-MODIFIED:20251027T161953Z
UID:10009968-1762426800-1762434000@www.ecuhealth.org
SUMMARY:Diabetes Awareness Month
DESCRIPTION:[vc_row][vc_column width=”1/2″][vc_column_text css=””]Diabetes Expo – health fair to help team members and community members prevent prediabetes\, type 2 diabetes or manage diabetes. \nImage online graphics for Diabetes in the US most recent update.\nhttps://www.cdc.gov/diabetes/communication-resources/diabetes-statistics.html[/vc_column_text][/vc_column][vc_column width=”1/2″][vc_single_image image=”6682″ img_size=”full” css=””][/vc_column][/vc_row]
URL:https://www.ecuhealth.org/event/diabetes-awareness-month/
LOCATION:ECU Health Lifestyle Medicine Clinic – Greenville\, 2610 Stantonsburg Rd.\, Greenville\, NC\, 27835\, United States
CATEGORIES:Lifestyle Medicine,Wellness
ATTACH;FMTTYPE=image/jpeg:https://www.ecuhealth.org/wp-content/uploads/2021/11/Diabetes-BP_IMG.jpg
GEO:35.6075542;-77.4180204
X-APPLE-STRUCTURED-LOCATION;VALUE=URI;X-ADDRESS=ECU Health Lifestyle Medicine Clinic – Greenville 2610 Stantonsburg Rd. Greenville NC 27835 United States;X-APPLE-RADIUS=500;X-TITLE=2610 Stantonsburg Rd.:geo:-77.4180204,35.6075542
END:VEVENT
BEGIN:VEVENT
DTSTART;TZID=America/New_York:20251106T110000
DTEND;TZID=America/New_York:20251106T130000
DTSTAMP:20260425T102828
CREATED:20251027T163020Z
LAST-MODIFIED:20251027T163020Z
UID:10009883-1762426800-1762434000@www.ecuhealth.org
SUMMARY:ECU Health Lifestyle Medicine Clinic - DIABETES EXPO 2025
DESCRIPTION:November is Diabetes Awareness Month and ECU Health Lifestyle Medicine Clinic is ready to help you take charge of your diabetes or find out more information to prevent or reverse type 2 diabetes at ECU Health Diabetes Expo 2025. Stop by between 11am and 1 pm and check out the diabetes stations to complete the Diabetes Expo Passport to enter your name for a door prize. Diabetes Expo 2025 is a stop by\, interactive event to help people with diabetes improve their management skills or help prevent diabetes. There will be interactive stations to talk with local experts on: Healthy Eating\, Being Active\, Monitoring Sugars\, Understanding Medications\, Rethink Your Drinks\, Diabetes & Safety\, Stress Management\, and more. Try out healthy smoothie options\, stop by the “Know Your Numbers” station to review your numbers\, and find out about community resources to help you take the next steps in managing your health with diabetes.
URL:https://www.ecuhealth.org/event/ecu-health-lifestyle-medicine-clinic-diabetes-expo-2025/
LOCATION:ECU Health Lifestyle Medicine Clinic – Greenville\, 2610 Stantonsburg Rd.\, Greenville\, NC\, 27835\, United States
CATEGORIES:Lifestyle Medicine
ATTACH;FMTTYPE=image/jpeg:https://www.ecuhealth.org/wp-content/uploads/2021/11/Diabetes-BP_IMG.jpg
GEO:35.6075542;-77.4180204
X-APPLE-STRUCTURED-LOCATION;VALUE=URI;X-ADDRESS=ECU Health Lifestyle Medicine Clinic – Greenville 2610 Stantonsburg Rd. Greenville NC 27835 United States;X-APPLE-RADIUS=500;X-TITLE=2610 Stantonsburg Rd.:geo:-77.4180204,35.6075542
END:VEVENT
BEGIN:VEVENT
DTSTART;TZID=America/New_York:20251106T120000
DTEND;TZID=America/New_York:20251106T130000
DTSTAMP:20260425T102828
CREATED:20241223T165146Z
LAST-MODIFIED:20250212T154003Z
UID:10009474-1762430400-1762434000@www.ecuhealth.org
SUMMARY:Taking Control of Tomorrow: Advance Care Planning- Kill Devil Hills
DESCRIPTION:[vc_row][vc_column width=”1/2″][vc_column_text]Join us for a FREE session to learn the who\, what\, when\, where\, how\, and most importantly\, the WHY of advance care planning\, including your Health Care Power of Attorney and Living Will documents.\nTrained staff will be available to answer questions and to assist you with completion of your health care Advance Directives with FREE notary support. \nPhoto ID is required for completion of documents.[/vc_column_text][/vc_column][vc_column width=”1/2″][vc_single_image image=”41450″ img_size=”full” css=””][/vc_column][/vc_row]
URL:https://www.ecuhealth.org/event/taking-control-of-tomorrow-advance-care-planning-kill-devil-hills/2025-11-06/
LOCATION:Baum Senior Center\, 300 Mustian Street\, Kill Devil Hills\, NC\, 27948\, United States
CATEGORIES:Advance Care Planning,Wellness
ATTACH;FMTTYPE=image/jpeg:https://www.ecuhealth.org/wp-content/uploads/2024/12/465726934_1167895595336631_8387550205515313961_n.jpg
ORGANIZER;CN="ECU Health Advance Care Planning":MAILTO:AdvanceCare@ecuhealth.org
GEO:36.0110585;-75.662402
X-APPLE-STRUCTURED-LOCATION;VALUE=URI;X-ADDRESS=Baum Senior Center 300 Mustian Street Kill Devil Hills NC 27948 United States;X-APPLE-RADIUS=500;X-TITLE=300 Mustian Street:geo:-75.662402,36.0110585
END:VEVENT
BEGIN:VEVENT
DTSTART;TZID=America/New_York:20251106T170000
DTEND;TZID=America/New_York:20251106T183000
DTSTAMP:20260425T102828
CREATED:20251006T151421Z
LAST-MODIFIED:20251006T151421Z
UID:10009880-1762448400-1762453800@www.ecuhealth.org
SUMMARY:Savvy Side Dishes: Healthy Hacks for the Holidays
DESCRIPTION:[vc_row][vc_column width=”1/2″][vc_column_text]Learn how to create delicious\, crowd-pleasing side dishes and dessert that won’t derail your holiday wellness goals. Join us for a live cooking demonstration featuring healthy twists on classic festive foods.[/vc_column_text][/vc_column][vc_column width=”1/2″][vc_single_image image=”45087″ img_size=”full” css=””][/vc_column][/vc_row]
URL:https://www.ecuhealth.org/event/savvy-side-dishes-healthy-hacks-for-the-holidays/
LOCATION:ECU Health Lifestyle Medicine Clinic – Greenville\, 2610 Stantonsburg Rd.\, Greenville\, NC\, 27835\, United States
CATEGORIES:Lifestyle Medicine,Wellness
ATTACH;FMTTYPE=image/jpeg:https://www.ecuhealth.org/wp-content/uploads/2025/10/web-GettyImages-1183586464.jpg
GEO:35.6075542;-77.4180204
X-APPLE-STRUCTURED-LOCATION;VALUE=URI;X-ADDRESS=ECU Health Lifestyle Medicine Clinic – Greenville 2610 Stantonsburg Rd. Greenville NC 27835 United States;X-APPLE-RADIUS=500;X-TITLE=2610 Stantonsburg Rd.:geo:-77.4180204,35.6075542
END:VEVENT
END:VCALENDAR