BEGIN:VCALENDAR
VERSION:2.0
PRODID:-//ECU Health - ECPv6.15.20//NONSGML v1.0//EN
CALSCALE:GREGORIAN
METHOD:PUBLISH
X-WR-CALNAME:ECU Health
X-ORIGINAL-URL:https://www.ecuhealth.org
X-WR-CALDESC:Events for ECU Health
REFRESH-INTERVAL;VALUE=DURATION:PT1H
X-Robots-Tag:noindex
X-PUBLISHED-TTL:PT1H
BEGIN:VTIMEZONE
TZID:America/New_York
BEGIN:DAYLIGHT
TZOFFSETFROM:-0500
TZOFFSETTO:-0400
TZNAME:EDT
DTSTART:20240310T070000
END:DAYLIGHT
BEGIN:STANDARD
TZOFFSETFROM:-0400
TZOFFSETTO:-0500
TZNAME:EST
DTSTART:20241103T060000
END:STANDARD
BEGIN:DAYLIGHT
TZOFFSETFROM:-0500
TZOFFSETTO:-0400
TZNAME:EDT
DTSTART:20250309T070000
END:DAYLIGHT
BEGIN:STANDARD
TZOFFSETFROM:-0400
TZOFFSETTO:-0500
TZNAME:EST
DTSTART:20251102T060000
END:STANDARD
BEGIN:DAYLIGHT
TZOFFSETFROM:-0500
TZOFFSETTO:-0400
TZNAME:EDT
DTSTART:20260308T070000
END:DAYLIGHT
BEGIN:STANDARD
TZOFFSETFROM:-0400
TZOFFSETTO:-0500
TZNAME:EST
DTSTART:20261101T060000
END:STANDARD
END:VTIMEZONE
BEGIN:VEVENT
DTSTART;TZID=America/New_York:20251201T173000
DTEND;TZID=America/New_York:20251202T190000
DTSTAMP:20260423T145229
CREATED:20240703T172522Z
LAST-MODIFIED:20250811T132617Z
UID:10008577-1764610200-1764702000@www.ecuhealth.org
SUMMARY:Living On After Loss
DESCRIPTION:[vc_row][vc_column][vc_single_image image=”8593″ img_size=”full” css=””][vc_column_text css=””]Losing a loved one is devastating and learning how to continue living can be challenging. Loneliness is just one of the many feelings a grieving person may experience. ECU Health Home Health and Hospice offers a community-based grief program “Living On After Loss.” Facilitators guide participants through an eight-week grief journey\, following the death of a loved one. Anyone over the age of 18 is welcome to attend. There is no charge to participate. Whether it is an expected or unexpected death\, those left on this earth are welcome. \nGrief is different and unique for each person. There is no right or wrong method of grieving. This is a nonfaith-based program and a supportive environment for all attendees. \nRegistration is required.[/vc_column_text][/vc_column][/vc_row]
URL:https://www.ecuhealth.org/event/living-on-after-loss/2025-12-01/
LOCATION:McConnell-Raab Hope Lodge – Conference Room\, 930 Wellness Drive\, Greenville\, NC\, 27834\, United States
CATEGORIES:Home Health and Hospice
ATTACH;FMTTYPE=image/jpeg:https://www.ecuhealth.org/wp-content/uploads/2023/02/Support-Group-2023.jpg
GEO:35.6099789;-77.4157284
X-APPLE-STRUCTURED-LOCATION;VALUE=URI;X-ADDRESS=McConnell-Raab Hope Lodge – Conference Room 930 Wellness Drive Greenville NC 27834 United States;X-APPLE-RADIUS=500;X-TITLE=930 Wellness Drive:geo:-77.4157284,35.6099789
END:VEVENT
BEGIN:VEVENT
DTSTART;TZID=America/New_York:20251202T180000
DTEND;TZID=America/New_York:20251202T193000
DTSTAMP:20260423T145229
CREATED:20240506T144925Z
LAST-MODIFIED:20240506T144925Z
UID:10008323-1764698400-1764703800@www.ecuhealth.org
SUMMARY:Chowan Breastfeeding Class
DESCRIPTION:[vc_row][vc_column][vc_single_image image=”3922″ img_size=”full” css=””][vc_column_text css=””] \n\n\n\n\n\n\n\nOur Breastfeeding Class at ECU Health Chowan Hospital offers basic instruction on how to breastfeed your baby. Knowledge is the key to making this exciting time easier for your family. Your support person is welcomed to this class and it is recommend to take this session before 30 weeks. \nWe discuss the importance of skin-to-skin\, breastfeeding in the first hour of birth\, practices related to breastfeeding in the immediate postpartum period and breastfeeding after returning to work. \nRegistration is required. \n\n\n\n\n\n\n\n[/vc_column_text][/vc_column][/vc_row]
URL:https://www.ecuhealth.org/event/chowan-breastfeeding-class/2025-12-02/
LOCATION:ECU Health Chowan Hospital Education Center Classrooms\, 211 Virginia Road\, Edenton\,\, NC\, 27932\, United States
CATEGORIES:Women's Services
ATTACH;FMTTYPE=image/jpeg:https://www.ecuhealth.org/wp-content/uploads/2020/12/Events_VMC_Virtual_BreastFeed_Featured_IMG-1.jpg
GEO:36.0699925;-76.6112149
X-APPLE-STRUCTURED-LOCATION;VALUE=URI;X-ADDRESS=ECU Health Chowan Hospital Education Center Classrooms 211 Virginia Road Edenton NC 27932 United States;X-APPLE-RADIUS=500;X-TITLE=211 Virginia Road:geo:-76.6112149,36.0699925
END:VEVENT
BEGIN:VEVENT
DTSTART;TZID=America/New_York:20251203T113000
DTEND;TZID=America/New_York:20251203T123000
DTSTAMP:20260423T145229
CREATED:20241223T165146Z
LAST-MODIFIED:20250212T154003Z
UID:10009475-1764761400-1764765000@www.ecuhealth.org
SUMMARY:Taking Control of Tomorrow: Advance Care Planning- Kill Devil Hills
DESCRIPTION:[vc_row][vc_column width=”1/2″][vc_column_text]Join us for a FREE session to learn the who\, what\, when\, where\, how\, and most importantly\, the WHY of advance care planning\, including your Health Care Power of Attorney and Living Will documents.\nTrained staff will be available to answer questions and to assist you with completion of your health care Advance Directives with FREE notary support. \nPhoto ID is required for completion of documents.[/vc_column_text][/vc_column][vc_column width=”1/2″][vc_single_image image=”41450″ img_size=”full” css=””][/vc_column][/vc_row]
URL:https://www.ecuhealth.org/event/taking-control-of-tomorrow-advance-care-planning-kill-devil-hills/2025-12-03/
LOCATION:Baum Senior Center\, 300 Mustian Street\, Kill Devil Hills\, NC\, 27948\, United States
CATEGORIES:Advance Care Planning,Wellness
ATTACH;FMTTYPE=image/jpeg:https://www.ecuhealth.org/wp-content/uploads/2024/12/465726934_1167895595336631_8387550205515313961_n.jpg
ORGANIZER;CN="ECU Health Advance Care Planning":MAILTO:AdvanceCare@ecuhealth.org
GEO:36.0110585;-75.662402
X-APPLE-STRUCTURED-LOCATION;VALUE=URI;X-ADDRESS=Baum Senior Center 300 Mustian Street Kill Devil Hills NC 27948 United States;X-APPLE-RADIUS=500;X-TITLE=300 Mustian Street:geo:-75.662402,36.0110585
END:VEVENT
BEGIN:VEVENT
DTSTART;TZID=America/New_York:20251204T170000
DTEND;TZID=America/New_York:20251204T210000
DTSTAMP:20260423T145229
CREATED:20250106T132225Z
LAST-MODIFIED:20251015T145655Z
UID:10009538-1764867600-1764882000@www.ecuhealth.org
SUMMARY:ECU Health Medical Center – In-Person Childbirth Class
DESCRIPTION:[vc_row][vc_column width=”1/2″][vc_column_text]Taught by our very own ECU Health Medical Center nurses\, our childbirth class offers instruction on the labor and delivery process. Topics discussed during this session include the labor process\, hospital birth plans\, when to contact medical providers\, breathing techniques\, medication\, self-care and methods of childbirth. Take part in our Childbirth class close to your due date 28 to 35 weeks of pregnancy to keep the information fresh in your mind. The cost is $75 per couple.[/vc_column_text][/vc_column][vc_column width=”1/2″][vc_single_image image=”6277″ img_size=”full” css=””][/vc_column][/vc_row]
URL:https://www.ecuhealth.org/event/ecu-health-medical-center-in-person-childbirth-class/2025-12-04/
CATEGORIES:Children's,Women's Services
ATTACH;FMTTYPE=image/jpeg:https://www.ecuhealth.org/wp-content/uploads/2021/09/vidant_Breastfeeding_3449.jpeg
END:VEVENT
BEGIN:VEVENT
DTSTART;TZID=America/New_York:20251206T090000
DTEND;TZID=America/New_York:20251206T150000
DTSTAMP:20260423T145229
CREATED:20250721T183218Z
LAST-MODIFIED:20251015T145806Z
UID:10009757-1765011600-1765033200@www.ecuhealth.org
SUMMARY:ECU Health Beaufort – In-Person Childbirth Class
DESCRIPTION:[vc_row][vc_column width=”1/2″][vc_column_text]Taught by our very own ECU Health Beaufort nurse\, our childbirth class offers instruction on the labor and delivery process. Topics discussed: \nBefore you Give Birth – Includes making arrangements\, taking care of yourself\, learning how to manage pain. \nWhat Happens During Childbirth – Includes understanding labor\, medical interventions\, types of births. \nAfter you Give Birth – Includes caring for your newborn\, postpartum changes and self-care. \nTour of our Labor and Delivery Unit\nTake part in our Childbirth class close to your due date 28 to 35 weeks of pregnancy to keep the information fresh in your mind. The cost is $25 per couple.[/vc_column_text][/vc_column][vc_column width=”1/2″][vc_single_image image=”4876″ img_size=”full” css=””][/vc_column][/vc_row]
URL:https://www.ecuhealth.org/event/ecu-health-beaufort-in-person-childbirth-class/2025-12-06/
LOCATION:ECU Health Beaufort\, 628 E 12th St\, Washington\, NC\, 27889\, United States
CATEGORIES:Women's Services
ATTACH;FMTTYPE=image/jpeg:https://www.ecuhealth.org/wp-content/uploads/2021/04/childbirth_2_FB.jpg
END:VEVENT
END:VCALENDAR