BEGIN:VCALENDAR
VERSION:2.0
PRODID:-//ECU Health - ECPv6.15.20//NONSGML v1.0//EN
CALSCALE:GREGORIAN
METHOD:PUBLISH
X-ORIGINAL-URL:https://www.ecuhealth.org
X-WR-CALDESC:Events for ECU Health
REFRESH-INTERVAL;VALUE=DURATION:PT1H
X-Robots-Tag:noindex
X-PUBLISHED-TTL:PT1H
BEGIN:VTIMEZONE
TZID:America/New_York
BEGIN:DAYLIGHT
TZOFFSETFROM:-0500
TZOFFSETTO:-0400
TZNAME:EDT
DTSTART:20250309T070000
END:DAYLIGHT
BEGIN:STANDARD
TZOFFSETFROM:-0400
TZOFFSETTO:-0500
TZNAME:EST
DTSTART:20251102T060000
END:STANDARD
BEGIN:DAYLIGHT
TZOFFSETFROM:-0500
TZOFFSETTO:-0400
TZNAME:EDT
DTSTART:20260308T070000
END:DAYLIGHT
BEGIN:STANDARD
TZOFFSETFROM:-0400
TZOFFSETTO:-0500
TZNAME:EST
DTSTART:20261101T060000
END:STANDARD
BEGIN:DAYLIGHT
TZOFFSETFROM:-0500
TZOFFSETTO:-0400
TZNAME:EDT
DTSTART:20270314T070000
END:DAYLIGHT
BEGIN:STANDARD
TZOFFSETFROM:-0400
TZOFFSETTO:-0500
TZNAME:EST
DTSTART:20271107T060000
END:STANDARD
END:VTIMEZONE
BEGIN:VEVENT
DTSTART;TZID=America/New_York:20260406T173000
DTEND;TZID=America/New_York:20260406T200000
DTSTAMP:20260424T113927
CREATED:20260216T202759Z
LAST-MODIFIED:20260216T202759Z
UID:10010440-1775496600-1775505600@www.ecuhealth.org
SUMMARY:ECU Health Medical Center — Greenville NC Newborn Baby Care Basic Class
DESCRIPTION:[vc_row][vc_column width=”1/2″][vc_column_text]Join us for our Newborn Baby Care Basic Class. This in-person group session covers basic newborn care\, feeding\, growth and parenting. The cost is $20 per couple.[/vc_column_text][/vc_column][vc_column width=”1/2″][vc_single_image image=”3265″ img_size=”full”][/vc_column][/vc_row]
URL:https://www.ecuhealth.org/event/ecu-health-medical-center-greenville-nc-newborn-baby-care-basic-class-6/2026-04-06/
ATTACH;FMTTYPE=image/jpeg:https://www.ecuhealth.org/wp-content/uploads/2020/11/Childrens_OurFacility_Maternal_2-1.jpg
END:VEVENT
BEGIN:VEVENT
DTSTART;TZID=America/New_York:20260406T173000
DTEND;TZID=America/New_York:20260407T190000
DTSTAMP:20260424T113927
CREATED:20240703T172522Z
LAST-MODIFIED:20250811T132617Z
UID:10008595-1775496600-1775588400@www.ecuhealth.org
SUMMARY:Living On After Loss
DESCRIPTION:[vc_row][vc_column][vc_single_image image=”8593″ img_size=”full” css=””][vc_column_text css=””]Losing a loved one is devastating and learning how to continue living can be challenging. Loneliness is just one of the many feelings a grieving person may experience. ECU Health Home Health and Hospice offers a community-based grief program “Living On After Loss.” Facilitators guide participants through an eight-week grief journey\, following the death of a loved one. Anyone over the age of 18 is welcome to attend. There is no charge to participate. Whether it is an expected or unexpected death\, those left on this earth are welcome. \nGrief is different and unique for each person. There is no right or wrong method of grieving. This is a nonfaith-based program and a supportive environment for all attendees. \nRegistration is required.[/vc_column_text][/vc_column][/vc_row]
URL:https://www.ecuhealth.org/event/living-on-after-loss/2026-04-06/
LOCATION:McConnell-Raab Hope Lodge – Conference Room\, 930 Wellness Drive\, Greenville\, NC\, 27834\, United States
CATEGORIES:Home Health and Hospice
ATTACH;FMTTYPE=image/jpeg:https://www.ecuhealth.org/wp-content/uploads/2023/02/Support-Group-2023.jpg
GEO:35.6099789;-77.4157284
X-APPLE-STRUCTURED-LOCATION;VALUE=URI;X-ADDRESS=McConnell-Raab Hope Lodge – Conference Room 930 Wellness Drive Greenville NC 27834 United States;X-APPLE-RADIUS=500;X-TITLE=930 Wellness Drive:geo:-77.4157284,35.6099789
END:VEVENT
BEGIN:VEVENT
DTSTART;TZID=America/New_York:20260407T180000
DTEND;TZID=America/New_York:20260407T193000
DTSTAMP:20260424T113927
CREATED:20240506T144925Z
LAST-MODIFIED:20240506T144925Z
UID:10008327-1775584800-1775590200@www.ecuhealth.org
SUMMARY:Chowan Breastfeeding Class
DESCRIPTION:[vc_row][vc_column][vc_single_image image=”3922″ img_size=”full” css=””][vc_column_text css=””] \n\n\n\n\n\n\n\nOur Breastfeeding Class at ECU Health Chowan Hospital offers basic instruction on how to breastfeed your baby. Knowledge is the key to making this exciting time easier for your family. Your support person is welcomed to this class and it is recommend to take this session before 30 weeks. \nWe discuss the importance of skin-to-skin\, breastfeeding in the first hour of birth\, practices related to breastfeeding in the immediate postpartum period and breastfeeding after returning to work. \nRegistration is required. \n\n\n\n\n\n\n\n[/vc_column_text][/vc_column][/vc_row]
URL:https://www.ecuhealth.org/event/chowan-breastfeeding-class/2026-04-07/
LOCATION:ECU Health Chowan Hospital Education Center Classrooms\, 211 Virginia Road\, Edenton\,\, NC\, 27932\, United States
CATEGORIES:Women's Services
ATTACH;FMTTYPE=image/jpeg:https://www.ecuhealth.org/wp-content/uploads/2020/12/Events_VMC_Virtual_BreastFeed_Featured_IMG-1.jpg
GEO:36.0699925;-76.6112149
X-APPLE-STRUCTURED-LOCATION;VALUE=URI;X-ADDRESS=ECU Health Chowan Hospital Education Center Classrooms 211 Virginia Road Edenton NC 27932 United States;X-APPLE-RADIUS=500;X-TITLE=211 Virginia Road:geo:-76.6112149,36.0699925
END:VEVENT
BEGIN:VEVENT
DTSTART;TZID=America/New_York:20260407T180000
DTEND;TZID=America/New_York:20260407T193000
DTSTAMP:20260424T113927
CREATED:20260112T155036Z
LAST-MODIFIED:20260112T155036Z
UID:10010195-1775584800-1775590200@www.ecuhealth.org
SUMMARY:Breastfeeding Class
DESCRIPTION:[vc_row][vc_column width=”1/2″][vc_column_text]In-depth Breastfeeding Class recommended before 30 weeks. Bring you support person for this FREE class offered the 1st Tuesday each month @ 6 -7:30 pm\nKnowledge is the key to making this exciting time easier for you and your family. \nAlso\, check out the schedule for Breastfeeding Support Group offered on the 3rd Tues each month @ 10 am.[/vc_column_text][/vc_column][vc_column width=”1/2″][vc_single_image image=”4864″ img_size=”full” css=””][/vc_column][/vc_row]
URL:https://www.ecuhealth.org/event/breastfeeding-class-2/2026-04-07/
LOCATION:ECU Health Chowan Hospital\, Virginia Road\, Edenton\, NC\, 27932\, United States
CATEGORIES:Women's Services
ATTACH;FMTTYPE=image/jpeg:https://www.ecuhealth.org/wp-content/uploads/2021/04/breastfeeding_3_FB.jpg
GEO:36.0699925;-76.6112149
X-APPLE-STRUCTURED-LOCATION;VALUE=URI;X-ADDRESS=ECU Health Chowan Hospital Virginia Road Edenton NC 27932 United States;X-APPLE-RADIUS=500;X-TITLE=Virginia Road:geo:-76.6112149,36.0699925
END:VEVENT
BEGIN:VEVENT
DTSTART;TZID=America/New_York:20260408T130000
DTEND;TZID=America/New_York:20260408T150000
DTSTAMP:20260424T113927
CREATED:20260119T145741Z
LAST-MODIFIED:20260119T145741Z
UID:10010315-1775653200-1775660400@www.ecuhealth.org
SUMMARY:Taking Control of Tomorrow: Advance Care Planning
DESCRIPTION:[vc_row][vc_column][vc_single_image image=”46669″ img_size=”full”][vc_column_text]Do you know who would make medical decisions for you if you do not have a Health Care Power of Attorney Advance Directive? Are your decision makers aware of any health outcomes that are unacceptable to you and are they prepared to represent you? \nJoin us for a FREE session to learn the who\, what\, when\, where\, how\, and most importantly\, the WHY of advance care planning. At ECU Health\, we want to provide care that matches the medical treatment(s) that you choose. We also want the person that guides decisions about your care to make the decisions that you would make. \nLearn more about how to be sure that your voice is heard even when you can’t speak for yourself by completing a legal Health Care Power of Attorney and Living Will Advance Directive. \nTrained staff will be available to answer questions you may have and to assist you with completion of these documents with FREE notary support. Photo ID is required for completion of documents. \nIf you have already completed your Advance Directives and would like to have them scanned into your ECU Health electronic health record\, please feel free to bring your documents to this class for assistance.[/vc_column_text][/vc_column][/vc_row]
URL:https://www.ecuhealth.org/event/taking-control-of-tomorrow-advance-care-planning-2/2026-04-08/
LOCATION:Edgecome County Memorial Library\, 909 N Main Street\, Tarboro\, NC\, 27886\, United States
CATEGORIES:Advance Care Planning,Wellness
ATTACH;FMTTYPE=image/jpeg:https://www.ecuhealth.org/wp-content/uploads/2026/01/ACP-PIcture-2026-1.jpg
ORGANIZER;CN="ECU Health Advance Care Planning":MAILTO:AdvanceCare@ecuhealth.org
GEO:35.9021014;-77.5371315
X-APPLE-STRUCTURED-LOCATION;VALUE=URI;X-ADDRESS=Edgecome County Memorial Library 909 N Main Street Tarboro NC 27886 United States;X-APPLE-RADIUS=500;X-TITLE=909 N Main Street:geo:-77.5371315,35.9021014
END:VEVENT
BEGIN:VEVENT
DTSTART;TZID=America/New_York:20260408T180000
DTEND;TZID=America/New_York:20260408T193000
DTSTAMP:20260424T113927
CREATED:20251210T135116Z
LAST-MODIFIED:20260310T132609Z
UID:10010112-1775671200-1775676600@www.ecuhealth.org
SUMMARY:ECU Health Infant/Child CPR Class- Greenville NC
DESCRIPTION:[vc_row][vc_column width=”1/2″][vc_column_text]Learn INFANT & CHILD CPR Choking rescue in a hands-on instructor led environment. CPR is ideal for parents\, grandparents\, baby sitters and others who want to learn infant CPR but DO NOT need a certification to meet a job requirement. Registration is required please email womens@ecuhealth.org or call 252-847-4819 to register or for questions. Registration closes three business days before class.[/vc_column_text][/vc_column][vc_column width=”1/2″][vc_single_image image=”4999″ img_size=”full” css=””][/vc_column][/vc_row]
URL:https://www.ecuhealth.org/event/ecu-health-infant-child-cpr-class-greenville-nc/2026-04-08/
LOCATION:ECU Health Medical Center\, 2100 Stantonsburg Road\, Greenville\, NC\, 27834\, United States
CATEGORIES:Women's Services
ATTACH;FMTTYPE=image/jpeg:https://www.ecuhealth.org/wp-content/uploads/2021/05/InfantCPR_1_thumb.jpg
GEO:35.60757;-77.4038515
X-APPLE-STRUCTURED-LOCATION;VALUE=URI;X-ADDRESS=ECU Health Medical Center 2100 Stantonsburg Road Greenville NC 27834 United States;X-APPLE-RADIUS=500;X-TITLE=2100 Stantonsburg Road:geo:-77.4038515,35.60757
END:VEVENT
BEGIN:VEVENT
DTSTART;TZID=America/New_York:20260409T110000
DTEND;TZID=America/New_York:20260409T120000
DTSTAMP:20260424T113927
CREATED:20231024T152738Z
LAST-MODIFIED:20231030T143802Z
UID:10006492-1775732400-1775736000@www.ecuhealth.org
SUMMARY:Brain Injury Support Group
DESCRIPTION:[vc_row][vc_column][vc_single_image image=”4871″ img_size=”full”][/vc_column][/vc_row][vc_row][vc_column][vc_column_text]Support groups are a great way to meet others who have experienced similar things you and your family have been through as a brain injury survivor. Meetings are open to brain injury survivors\, both traumatic and non-traumatic\, stroke survivors\, and loved ones and/or caregivers. \nMeeting topics include: \n\nSharing challenges\, recovery progress\, helpful tips\, encouragement\nCoping skills\, emotional support\, social interactions\, spirituality\nStroke symptoms\, medical concerns\, medications\nHealthy living\, exercise\, diet\, activities\, speakers and treats\n\n[/vc_column_text][/vc_column][/vc_row][vc_row][vc_column][vc_column_text]This event is hosted on the second Thursday of each month at 11 a.m. at ECU Health Medical Center’s Rehabilitation Classroom. Free parking is available with plenty of handicap spaces. \nTo register or for more information\, email group leaders Michele Horvath (michele.horvath@ecuhealth.org) or Alex Kinney (akinney@ecuhealth.org) or call 252-847-0571. We look forward to meeting you![/vc_column_text][/vc_column][/vc_row]
URL:https://www.ecuhealth.org/event/brain-injury-support-group-2/2026-04-09/
LOCATION:ECU Health Medical Center Rehabilitation Classroom\, 2115 Hospital Loop Road\, Greenville\, NC\, 27834\, United States
CATEGORIES:Neurological Care
ATTACH;FMTTYPE=image/jpeg:https://www.ecuhealth.org/wp-content/uploads/2021/04/stroke_Support_3_FB.jpg
GEO:35.6058264;-77.406598
X-APPLE-STRUCTURED-LOCATION;VALUE=URI;X-ADDRESS=ECU Health Medical Center Rehabilitation Classroom 2115 Hospital Loop Road Greenville NC 27834 United States;X-APPLE-RADIUS=500;X-TITLE=2115 Hospital Loop Road:geo:-77.406598,35.6058264
END:VEVENT
BEGIN:VEVENT
DTSTART;TZID=America/New_York:20260409T170000
DTEND;TZID=America/New_York:20260409T210000
DTSTAMP:20260424T113927
CREATED:20250908T144430Z
LAST-MODIFIED:20260310T132511Z
UID:10009819-1775754000-1775768400@www.ecuhealth.org
SUMMARY:ECU Health Medical Center – In-Person Childbirth Class
DESCRIPTION:[vc_row][vc_column width=”1/2″][vc_column_text]Taught by our very own ECU Health Medical Center nurses\, our childbirth class offers instruction on the labor and delivery process. Topics discussed during this session include the labor process\, hospital birth plans\, when to contact medical providers\, breathing techniques\, medication\, self-care and methods of childbirth. Take part in our Childbirth class close to your due date 28 to 35 weeks of pregnancy to keep the information fresh in your mind. The cost is $75 per couple.[/vc_column_text][/vc_column][vc_column width=”1/2″][vc_single_image image=”3782″ img_size=”full” css=””][/vc_column][/vc_row]
URL:https://www.ecuhealth.org/event/ecu-health-medical-center-in-person-childbirth-class-2/2026-04-09/
LOCATION:ECU Health Medical Center\, 2100 Stantonsburg Road\, Greenville\, NC\, 27834\, United States
CATEGORIES:Women's Services
ATTACH;FMTTYPE=image/jpeg:https://www.ecuhealth.org/wp-content/uploads/2020/12/Events_VMC_Virtual_Childbirth_Featured_IMG-1.jpg
GEO:35.60757;-77.4038515
X-APPLE-STRUCTURED-LOCATION;VALUE=URI;X-ADDRESS=ECU Health Medical Center 2100 Stantonsburg Road Greenville NC 27834 United States;X-APPLE-RADIUS=500;X-TITLE=2100 Stantonsburg Road:geo:-77.4038515,35.60757
END:VEVENT
BEGIN:VEVENT
DTSTART;TZID=America/New_York:20260411T090000
DTEND;TZID=America/New_York:20260411T150000
DTSTAMP:20260424T113927
CREATED:20251106T134021Z
LAST-MODIFIED:20260318T141950Z
UID:10009975-1775898000-1775919600@www.ecuhealth.org
SUMMARY:ECU Health Duplin – In-Person Childbirth Class
DESCRIPTION:[vc_row][vc_column width=”1/2″][vc_column_text css=””]Taught by our very own ECU Health Duplin nurses\, our childbirth class offers instruction on the labor and delivery process. \nTopics discussed:\n\nBefore you Give Birth – Includes making arrangements\, taking care of yourself\, learning how to manage pain.\nWhat Happens During Childbirth – Includes understanding labor\, medical interventions\, types of births.\nAfter you Give Birth – Includes caring for your newborn\, postpartum changes\, and self-care.\nTour of our Labor and Delivery Unit\n\nTake part in our free Childbirth class close to your due date 28 to 35 weeks of pregnancy to keep the information fresh in your mind.[/vc_column_text][/vc_column][vc_column width=”1/2″][vc_single_image image=”4876″ img_size=”full” css=””][/vc_column][/vc_row]
URL:https://www.ecuhealth.org/event/ecu-health-duplin-in-person-childbirth-class/2026-04-11/
CATEGORIES:Women's Services
ATTACH;FMTTYPE=image/jpeg:https://www.ecuhealth.org/wp-content/uploads/2021/04/childbirth_2_FB.jpg
ORGANIZER;CN="ECU Health Duplin Hospital":MAILTO:eve.stroud@ecuhealth.org
END:VEVENT
END:VCALENDAR