BEGIN:VCALENDAR
VERSION:2.0
PRODID:-//ECU Health - ECPv6.15.20//NONSGML v1.0//EN
CALSCALE:GREGORIAN
METHOD:PUBLISH
X-ORIGINAL-URL:https://www.ecuhealth.org
X-WR-CALDESC:Events for ECU Health
REFRESH-INTERVAL;VALUE=DURATION:PT1H
X-Robots-Tag:noindex
X-PUBLISHED-TTL:PT1H
BEGIN:VTIMEZONE
TZID:America/New_York
BEGIN:DAYLIGHT
TZOFFSETFROM:-0500
TZOFFSETTO:-0400
TZNAME:EDT
DTSTART:20250309T070000
END:DAYLIGHT
BEGIN:STANDARD
TZOFFSETFROM:-0400
TZOFFSETTO:-0500
TZNAME:EST
DTSTART:20251102T060000
END:STANDARD
BEGIN:DAYLIGHT
TZOFFSETFROM:-0500
TZOFFSETTO:-0400
TZNAME:EDT
DTSTART:20260308T070000
END:DAYLIGHT
BEGIN:STANDARD
TZOFFSETFROM:-0400
TZOFFSETTO:-0500
TZNAME:EST
DTSTART:20261101T060000
END:STANDARD
BEGIN:DAYLIGHT
TZOFFSETFROM:-0500
TZOFFSETTO:-0400
TZNAME:EDT
DTSTART:20270314T070000
END:DAYLIGHT
BEGIN:STANDARD
TZOFFSETFROM:-0400
TZOFFSETTO:-0500
TZNAME:EST
DTSTART:20271107T060000
END:STANDARD
END:VTIMEZONE
BEGIN:VEVENT
DTSTART;TZID=America/New_York:20260601T173000
DTEND;TZID=America/New_York:20260601T200000
DTSTAMP:20260424T042652
CREATED:20260216T202759Z
LAST-MODIFIED:20260216T202759Z
UID:10010442-1780335000-1780344000@www.ecuhealth.org
SUMMARY:ECU Health Medical Center — Greenville NC Newborn Baby Care Basic Class
DESCRIPTION:[vc_row][vc_column width=”1/2″][vc_column_text]Join us for our Newborn Baby Care Basic Class. This in-person group session covers basic newborn care\, feeding\, growth and parenting. The cost is $20 per couple.[/vc_column_text][/vc_column][vc_column width=”1/2″][vc_single_image image=”3265″ img_size=”full”][/vc_column][/vc_row]
URL:https://www.ecuhealth.org/event/ecu-health-medical-center-greenville-nc-newborn-baby-care-basic-class-6/2026-06-01/
ATTACH;FMTTYPE=image/jpeg:https://www.ecuhealth.org/wp-content/uploads/2020/11/Childrens_OurFacility_Maternal_2-1.jpg
END:VEVENT
BEGIN:VEVENT
DTSTART;TZID=America/New_York:20260602T090000
DTEND;TZID=America/New_York:20260602T100000
DTSTAMP:20260424T042652
CREATED:20260119T144653Z
LAST-MODIFIED:20260119T144742Z
UID:10010332-1780390800-1780394400@www.ecuhealth.org
SUMMARY:Taking Control of Tomorrow: Advance Care Planning
DESCRIPTION:[vc_row][vc_column][vc_single_image image=”46669″ img_size=”full” css=””][vc_column_text]Do you know who would make medical decisions for you if you do not have a Health Care Power of Attorney Advance Directive? Are your decision makers aware of any health outcomes that are unacceptable to you and are they prepared to represent you? \nJoin us for a FREE session to learn the who\, what\, when\, where\, how\, and most importantly\, the WHY of advance care planning. At ECU Health\, we want to provide care that matches the medical treatment(s) that you choose. We also want the person that guides decisions about your care to make the decisions that you would make. \nLearn more about how to be sure that your voice is heard even when you can’t speak for yourself by completing a legal Health Care Power of Attorney and Living Will Advance Directive. \nTrained staff will be available to answer questions you may have and to assist you with completion of these documents with FREE notary support. Photo ID is required for completion of documents. \nIf you have already completed your Advance Directives and would like to have them scanned into your ECU Health electronic health record\, please feel free to bring your documents to this class for assistance.[/vc_column_text][/vc_column][/vc_row]
URL:https://www.ecuhealth.org/event/taking-control-of-tomorrow-advance-care-planning/2026-06-02/
LOCATION:Perquimans County Center for Active Living\, Harvey Point Road\, Hertford\, North Carolina\, 27944\, United States
CATEGORIES:Advance Care Planning,Wellness
ATTACH;FMTTYPE=image/jpeg:https://www.ecuhealth.org/wp-content/uploads/2026/01/616803728_1321911229953151_1103888333159898133_n.jpg
ORGANIZER;CN="ECU Health Advance Care Planning":MAILTO:AdvanceCare@ecuhealth.org
GEO:36.1722207;-76.4571348
X-APPLE-STRUCTURED-LOCATION;VALUE=URI;X-ADDRESS=Perquimans County Center for Active Living Harvey Point Road Hertford North Carolina 27944 United States;X-APPLE-RADIUS=500;X-TITLE=Harvey Point Road:geo:-76.4571348,36.1722207
END:VEVENT
BEGIN:VEVENT
DTSTART;TZID=America/New_York:20260602T180000
DTEND;TZID=America/New_York:20260602T193000
DTSTAMP:20260424T042652
CREATED:20240506T144925Z
LAST-MODIFIED:20240506T144925Z
UID:10008329-1780423200-1780428600@www.ecuhealth.org
SUMMARY:Chowan Breastfeeding Class
DESCRIPTION:[vc_row][vc_column][vc_single_image image=”3922″ img_size=”full” css=””][vc_column_text css=””] \n\n\n\n\n\n\n\nOur Breastfeeding Class at ECU Health Chowan Hospital offers basic instruction on how to breastfeed your baby. Knowledge is the key to making this exciting time easier for your family. Your support person is welcomed to this class and it is recommend to take this session before 30 weeks. \nWe discuss the importance of skin-to-skin\, breastfeeding in the first hour of birth\, practices related to breastfeeding in the immediate postpartum period and breastfeeding after returning to work. \nRegistration is required. \n\n\n\n\n\n\n\n[/vc_column_text][/vc_column][/vc_row]
URL:https://www.ecuhealth.org/event/chowan-breastfeeding-class/2026-06-02/
LOCATION:ECU Health Chowan Hospital Education Center Classrooms\, 211 Virginia Road\, Edenton\,\, NC\, 27932\, United States
CATEGORIES:Women's Services
ATTACH;FMTTYPE=image/jpeg:https://www.ecuhealth.org/wp-content/uploads/2020/12/Events_VMC_Virtual_BreastFeed_Featured_IMG-1.jpg
GEO:36.0699925;-76.6112149
X-APPLE-STRUCTURED-LOCATION;VALUE=URI;X-ADDRESS=ECU Health Chowan Hospital Education Center Classrooms 211 Virginia Road Edenton NC 27932 United States;X-APPLE-RADIUS=500;X-TITLE=211 Virginia Road:geo:-76.6112149,36.0699925
END:VEVENT
BEGIN:VEVENT
DTSTART;TZID=America/New_York:20260602T180000
DTEND;TZID=America/New_York:20260602T193000
DTSTAMP:20260424T042652
CREATED:20260112T155036Z
LAST-MODIFIED:20260112T155036Z
UID:10010197-1780423200-1780428600@www.ecuhealth.org
SUMMARY:Breastfeeding Class
DESCRIPTION:[vc_row][vc_column width=”1/2″][vc_column_text]In-depth Breastfeeding Class recommended before 30 weeks. Bring you support person for this FREE class offered the 1st Tuesday each month @ 6 -7:30 pm\nKnowledge is the key to making this exciting time easier for you and your family. \nAlso\, check out the schedule for Breastfeeding Support Group offered on the 3rd Tues each month @ 10 am.[/vc_column_text][/vc_column][vc_column width=”1/2″][vc_single_image image=”4864″ img_size=”full” css=””][/vc_column][/vc_row]
URL:https://www.ecuhealth.org/event/breastfeeding-class-2/2026-06-02/
LOCATION:ECU Health Chowan Hospital\, Virginia Road\, Edenton\, NC\, 27932\, United States
CATEGORIES:Women's Services
ATTACH;FMTTYPE=image/jpeg:https://www.ecuhealth.org/wp-content/uploads/2021/04/breastfeeding_3_FB.jpg
GEO:36.0699925;-76.6112149
X-APPLE-STRUCTURED-LOCATION;VALUE=URI;X-ADDRESS=ECU Health Chowan Hospital Virginia Road Edenton NC 27932 United States;X-APPLE-RADIUS=500;X-TITLE=Virginia Road:geo:-76.6112149,36.0699925
END:VEVENT
BEGIN:VEVENT
DTSTART;TZID=America/New_York:20260603T120000
DTEND;TZID=America/New_York:20260603T130000
DTSTAMP:20260424T042652
CREATED:20260119T145045Z
LAST-MODIFIED:20260119T145122Z
UID:10010301-1780488000-1780491600@www.ecuhealth.org
SUMMARY:Talk now. Get Peace of Mind
DESCRIPTION:[vc_row][vc_column][vc_single_image image=”46669″ img_size=”full” css=””][vc_column_text]Do you know who would make medical decisions for you if you do not have a Health Care Power of Attorney Advance Directive? Are your decision makers aware of any health outcomes that are unacceptable to you and are they prepared to represent you? \nJoin us for a FREE session to learn the who\, what\, when\, where\, how\, and most importantly\, the WHY of advance care planning. At ECU Health\, we want to provide care that matches the medical treatment(s) that you choose. We also want the person that guides decisions about your care to make the decisions that you would make. \nLearn more about how to be sure that your voice is heard even when you can’t speak for yourself by completing a legal Health Care Power of Attorney and Living Will Advance Directive. \nTrained staff will be available to answer questions you may have and to assist you with completion of these documents with FREE notary support. Photo ID is required for completion of documents. \nIf you have already completed your Advance Directives and would like to have them scanned into your ECU Health electronic health record\, please feel free to bring your documents to this class for assistance.[/vc_column_text][/vc_column][/vc_row]
URL:https://www.ecuhealth.org/event/talk-now-get-peace-of-mind/2026-06-03/
LOCATION:Baum Senior Center\, 300 Mustian Street\, Kill Devil Hills\, NC\, 27948\, United States
CATEGORIES:Advance Care Planning,Wellness
ATTACH;FMTTYPE=image/jpeg:https://www.ecuhealth.org/wp-content/uploads/2026/01/Grandma-for-Dare-County.jpg
ORGANIZER;CN="ECU Health Advance Care Planning":MAILTO:AdvanceCare@ecuhealth.org
GEO:36.0110585;-75.662402
X-APPLE-STRUCTURED-LOCATION;VALUE=URI;X-ADDRESS=Baum Senior Center 300 Mustian Street Kill Devil Hills NC 27948 United States;X-APPLE-RADIUS=500;X-TITLE=300 Mustian Street:geo:-75.662402,36.0110585
END:VEVENT
BEGIN:VEVENT
DTSTART;TZID=America/New_York:20260605T180000
DTEND;TZID=America/New_York:20260605T200000
DTSTAMP:20260424T042652
CREATED:20260331T190530Z
LAST-MODIFIED:20260331T191850Z
UID:10010569-1780682400-1780689600@www.ecuhealth.org
SUMMARY:ECU Health Medical Center- Breastfeeding Class- In Person
DESCRIPTION:[vc_row][vc_column width=”1/2″][vc_column_text]Our breastfeeding class at ECU Health Medical Center offers basic instruction on how to breastfeed your baby. We discuss the importance of skin to skin\, breastfeeding in the first hour of birth\, practices related to breastfeeding in the immediate postpartum period and breastfeeding after returning to work.[/vc_column_text][/vc_column][vc_column width=”1/2″][vc_single_image image=”4864″ img_size=”full” css=””][/vc_column][/vc_row]
URL:https://www.ecuhealth.org/event/ecu-health-medical-center-breastfeeding-class-in-person-2/2026-06-05/
LOCATION:Maynard Children’s Hospital\, 2100 Stantonsburg Rd.\, Greenville\, NC\, 27834\, United States
CATEGORIES:Children's,Women's Services
ATTACH;FMTTYPE=image/jpeg:https://www.ecuhealth.org/wp-content/uploads/2021/04/breastfeeding_3_FB.jpg
GEO:35.6080731;-77.4017984
X-APPLE-STRUCTURED-LOCATION;VALUE=URI;X-ADDRESS=Maynard Children’s Hospital 2100 Stantonsburg Rd. Greenville NC 27834 United States;X-APPLE-RADIUS=500;X-TITLE=2100 Stantonsburg Rd.:geo:-77.4017984,35.6080731
END:VEVENT
BEGIN:VEVENT
DTSTART;TZID=America/New_York:20260606T090000
DTEND;TZID=America/New_York:20260606T150000
DTSTAMP:20260424T042652
CREATED:20251202T160251Z
LAST-MODIFIED:20251202T160251Z
UID:10010039-1780736400-1780758000@www.ecuhealth.org
SUMMARY:ECU Health Beaufort – In-Person Childbirth Class
DESCRIPTION:[vc_row][vc_column width=”1/2″][vc_column_text]Taught by our very own ECU Health Beaufort nurse\, our childbirth class offers instruction on the labor and delivery process. Topics discussed: \nBefore you Give Birth – Includes making arrangements\, taking care of yourself\, learning how to manage pain. \nWhat Happens During Childbirth – Includes understanding labor\, medical interventions\, types of births. \nAfter you Give Birth – Includes caring for your newborn\, postpartum changes and self-care. \nTour of our Labor and Delivery Unit\nTake part in our Childbirth class close to your due date 28 to 35 weeks of pregnancy to keep the information fresh in your mind. The cost is $25 per couple.[/vc_column_text][/vc_column][vc_column width=”1/2″][vc_single_image image=”3901″ img_size=”full” css=””][/vc_column][/vc_row]
URL:https://www.ecuhealth.org/event/ecu-health-beaufort-in-person-childbirth-class-2/2026-06-06/
CATEGORIES:Women's Services
ATTACH;FMTTYPE=image/jpeg:https://www.ecuhealth.org/wp-content/uploads/2020/12/Events_Childbirth_Class_Featured_IMG-1.jpg
END:VEVENT
BEGIN:VEVENT
DTSTART;TZID=America/New_York:20260607T173000
DTEND;TZID=America/New_York:20260607T183000
DTSTAMP:20260424T042652
CREATED:20260223T204420Z
LAST-MODIFIED:20260223T204420Z
UID:10010595-1780853400-1780857000@www.ecuhealth.org
SUMMARY:Winning With Diabetes Champions
DESCRIPTION:[vc_row][vc_column width=”1/2″][vc_column_text css=””]Join our supportive community to learn practical skills for living well with diabetes. Each month focuses on an ADCES7 Self-Care Behaviors to build confidence and improve your health and well-being. Registration is required.[/vc_column_text][/vc_column][vc_column width=”1/2″][vc_single_image image=”47003″ img_size=”full” css=””][/vc_column][/vc_row]
URL:https://www.ecuhealth.org/event/winning-with-diabetes-champions/2026-06-07/
LOCATION:ECU Health Lifestyle Medicine Clinic – Greenville\, 2610 Stantonsburg Rd.\, Greenville\, NC\, 27835\, United States
CATEGORIES:Lifestyle Medicine,Wellness
ATTACH;FMTTYPE=image/jpeg:https://www.ecuhealth.org/wp-content/uploads/2026/02/Diabetes-Letters-web.jpg
GEO:35.6075542;-77.4180204
X-APPLE-STRUCTURED-LOCATION;VALUE=URI;X-ADDRESS=ECU Health Lifestyle Medicine Clinic – Greenville 2610 Stantonsburg Rd. Greenville NC 27835 United States;X-APPLE-RADIUS=500;X-TITLE=2610 Stantonsburg Rd.:geo:-77.4180204,35.6075542
END:VEVENT
END:VCALENDAR